BEGIN:VCALENDAR
VERSION:2.0
PRODID:-//wp-events-plugin.com//7.2.3.1//EN
TZID:Europe/Berlin
X-WR-TIMEZONE:Europe/Berlin
BEGIN:VEVENT
UID:2914@it-sicherheit.de
DTSTART;TZID=Europe/Berlin:20260608T090000
DTEND;TZID=Europe/Berlin:20260611T170000
DTSTAMP:20260424T101647Z
URL:https://it-sicherheit.de/veranstaltungen/webinar-iso-27001-lead-audito
 r/
SUMMARY:Webinar ISO 27001 Lead Auditor
DESCRIPTION:Dieses Seminar ISO 27001 Lead Auditor in Kooperation mit PECB b
 efähigt Sie\, das notwendige Fachwissen zu entwickeln\, um ein Informatio
 nssicherheitsmanagementsystem (ISMS) zu auditieren\, indem Sie allgemein a
 nerkannte Auditprinzipien\, Verfahren und Techniken anwenden.\n\nIm Rahmen
  dieser Schulung erwerben Sie die Kenntnisse und die Fertigkeiten zur Plan
 ung und Durchführung interner und externer Audits gemäß ISO 19011 und I
 SO/IEC 17021-1 Zertifizierungsprozess. Mithilfe praktischer Übungen werde
 n Sie Audit-Techniken beherrschen und ein Audit-Programm\, ein Audit-Team\
 , die Kommunikation mit Kunden und die Konfliktlösung managen lernen.\n\n
 Am Ende dieser Schulung werden Sie in der Lage sein:\n\n 	Die Anforderunge
 n der ISO/IEC 27001 an ein ISMS aus der Sicht eines Auditors zu interpreti
 eren\n 	Die Konformität des ISMS mit den Anforderungen der ISO/IEC 27001 
 in Übereinstimmung mit den grundlegenden Konzepten und Prinzipien der Aud
 itierung zu bewerten\n 	Ein Audit zur ISO/IEC 27001-Konformität gemäß d
 en Anforderungen der ISO/IEC 17021-1\, den Richtlinien der ISO 19011 und w
 eiteren bewährten Verfahren der Auditierung zu planen\, durchzuführen un
 d abzuschließen.\n 	Ein Auditprogramm nach ISO/IEC 27001 zu steuern\n\nDi
 eses Seminar richtet sich an Auditoren\, Berater und Führungskräfte. Das
  viertägige Webinar kostet 2.198 € zzgl. MwSt. und beinhaltet die Schul
 ungsunterlagen sowie die Zertifikats- und Prüfungsgebühren. Nach erfolgr
 eicher Prüfung erhalten Sie das Zertifikat PECB Certified ISO/IEC 27001 L
 ead Auditor. Das Webinar ist über unsere Homepage unter ISO 27001 Lead Au
 ditor | tacticx Consulting GmbH buchbar.\n\nDieses Training ISO 27001 Lea
 d Auditor bereitet Sie auf die Prüfung eines Informationssicherheits- Man
 agementsystems (ISMS) nach ISO/IEC 27001 vor. Während dieses Training erw
 erben Sie das Wissen und die Fähigkeiten\, um interne und externe Audits 
 in Übereinstimmung mit ISO 19011 und ISO/IEC 17021-1 zu planen und durchz
 uführen. Folgende Inhalte werden betrachtet:\n\n 	Einführung in das ISMS
  und ISO/IEC 27001\n 	Auditgrundsätze\, Vorbereitung eines Audits\n 	Prü
 fungsaktivitäten vor Ort\n 	Abschluss des Audits\n\nSollte Ihnen der Term
 in nicht passen oder Sie lieber in Ihrem eigenen Tempo die Themen erarbeit
 en\, so informieren Sie sich gerne auf unserer Homepage unter ISO 27001 Le
 ad Auditor | tacticx Consulting GmbH über die Option SelfLearn+.
CATEGORIES:Schulungen und Seminare
END:VEVENT
BEGIN:VTIMEZONE
TZID:Europe/Berlin
X-LIC-LOCATION:Europe/Berlin
BEGIN:DAYLIGHT
DTSTART:20260329T030000
TZOFFSETFROM:+0100
TZOFFSETTO:+0200
TZNAME:CEST
END:DAYLIGHT
END:VTIMEZONE
END:VCALENDAR