BEGIN:VCALENDAR
VERSION:2.0
PRODID:-//wp-events-plugin.com//7.2.3.1//EN
TZID:Europe/Berlin
X-WR-TIMEZONE:Europe/Berlin
BEGIN:VEVENT
UID:2917@it-sicherheit.de
DTSTART;TZID=Europe/Berlin:20261005T090000
DTEND;TZID=Europe/Berlin:20261008T170000
DTSTAMP:20260424T095716Z
URL:https://it-sicherheit.de/veranstaltungen/webinar-iso-22301-lead-implem
 enter/
SUMMARY:Webinar ISO 22301 Lead Implementer
DESCRIPTION:Störende Ereignisse können unterschiedliche Auswirkungen auf 
 Organisationen haben. Sie können durch Naturereignisse\, Verstöße gegen
  die Informationssicherheit oder verschiedene andere Vorfälle ausgelöst 
 werden. Oft sind sie unvorhersehbar\, was die Bedeutung einer guten Vorber
 eitung auf solche Ereignisse für Ihr Unternehmen hervorhebt. Eine angemes
 sene Planung ist unerlässlich\, um Risiken zu verringern\, Folgen zu mini
 mieren sowie mögliche\, negative Auswirkungen zu bewältigen. Nur so kann
  die Fortführung des täglichen Betriebs gewährleistet werden.\nDie Einr
 ichtung eines Business Continuity Management Systems (BCMS) nach ISO 22301
  kann Unternehmen dabei helfen\, Katastrophen\, Vorfälle sowie Risiken be
 sser zu verstehen und zu bewältigen.\n\nIn dieser Schulung in Kooperation
  mit PECB erhalten Sie ein umfassendes Verständnis für die besten Vorgeh
 ensweisen bei der Umsetzung eines BCMS nach ISO 22301. Weiterhin lernen Si
 e Maßnahmen für dessen kontinuierliche Verwaltung und Verbesserung.\n\nN
 ach der Teilnahme am Seminar können Sie eine Prüfung ablegen. Bei erfolg
 reichem Bestehen können Sie sich um das Personenzertifikat „PECB Certif
 ied ISO 22301 Lead Implementer“ bewerben\, welches Ihre Fähigkeit und I
 hr praktisches Wissen zur Implementierung eines BCMS nach ISO 22301 nachwe
 ist.\n\nAm Ende dieser Schulung werden die Teilnehmenden in der Lage sein:
 \n\n 	Die grundlegenden Konzepte und Prinzipien eines BCMS auf Grundlage d
 er ISO 22301 zu erklären\n 	Die Anforderungen der ISO 22301 an ein BCMS a
 us Sicht eines Implementers zu interpretieren\n 	Die Einführung eines BCM
 S auf Grundlage der ISO 22301 zu planen sowie umzusetzen\n 	Bewährte Prak
 tiken anzuwenden\, um die kontinuierliche Wirksamkeit und Verbesserung des
  BCMS auf Grundlage der ISO 22301 zu unterstützen\n 	Die Anforderungen f
 ür ein Zertifizierungsaudit nach ISO 22301 zu interpretieren\n\nDieses Se
 minar richtet sich an Auditoren\, Berater und Führungskräfte. Das viert
 ägige Webinar kostet 2.198 € zzgl. MwSt. und beinhaltet die Schulungsun
 terlagen sowie die Zertifikats- und Prüfungsgebühren. Nach erfolgreicher
  Prüfung erhalten Sie das Zertifikat PECB Certified ISO/IEC 22301 Lead Im
 plementer. Das Webinar ist über unsere Homepage unter ISO 22301 Lead Impl
 ementer buchbar.\n\nDas Training bereitet Sie auf die Einführung und den
  Betrieb eines Business Continuity System (BCM) nach ISO 22301 vor. In die
 sem Training erwerben Sie das Wissen und die Fähigkeiten\, um ein BCMS ef
 fizient und erfolgreich aufzubauen und in Ihrem Unternehmen oder Ihrer Org
 anisation einzuführen. Folgende Inhalte werden betrachtet:\n\n 	Einführu
 ng in die ISO 22301 sowie Aufbau eines BCMS\n 	Planung der Umsetzung eines
  BCMS\n 	Umsetzung eines BCMS\n 	Leistungsbewertung\, kontinuierliche Verb
 esserung und Vorbereitung auf das Zertifizierungsaudit\n\n&nbsp\;\n\nSollt
 e Ihnen der Termin nicht passen oder Sie lieber in Ihrem eigenen Tempo die
  Themen erarbeiten\, so informieren Sie sich gerne auf unserer Homepage un
 ter ISO 22301 Lead Implementer über die Option SelfLearn+.
CATEGORIES:Schulungen und Seminare
END:VEVENT
BEGIN:VTIMEZONE
TZID:Europe/Berlin
X-LIC-LOCATION:Europe/Berlin
BEGIN:DAYLIGHT
DTSTART:20260329T030000
TZOFFSETFROM:+0100
TZOFFSETTO:+0200
TZNAME:CEST
END:DAYLIGHT
END:VTIMEZONE
END:VCALENDAR