BEGIN:VCALENDAR
VERSION:2.0
PRODID:-//wp-events-plugin.com//7.2.3.1//EN
TZID:Europe/Berlin
X-WR-TIMEZONE:Europe/Berlin
BEGIN:VEVENT
UID:2864@it-sicherheit.de
DTSTART;TZID=Europe/Berlin:20260427T090000
DTEND;TZID=Europe/Berlin:20260428T170000
DTSTAMP:20260311T152528Z
URL:https://it-sicherheit.de/veranstaltungen/technische-grundlagen-der-it-
 sicherheit/
SUMMARY:Technische Grundlagen der IT-Sicherheit
DESCRIPTION:Cyberangriffe gehören mittlerweile zum Alltag – egal\, ob in
  Unternehmen\, Behörden oder im privaten Umfeld. In dieser Schulung werde
 n die Grundlagen der Cybersicherheit vermittelt und praxisnahe Maßnahmen 
 zur Erkennung\, Abwehr und Vorbeugung digitaler Bedrohungen aufgezeigt.\n\
 nDie Teilnehmenden erhalten Einblicke in aktuelle Bedrohungen\, lernen tec
 hnische und organisatorische Schutzmaßnahmen kennen und vertiefen ihr Ver
 ständnis für bewährte Sicherheitskonzepte. Die Schulung eignet sich som
 it hervorragend\, um auch in fachfremden Teams ein solides Grundverständn
 is und Kompetenzen aufzubauen – insbesondere in KMUs oder Organisationen
  ohne eigene Security-Abteilung.\n\n&nbsp\;\n\nMehr dazu hier.
CATEGORIES:Schulungen und Seminare
LOCATION:https://www.is-its.org/seminare/cyber-security-essentials-grundlag
 en-schutzmassnahmen-best-practices
END:VEVENT
BEGIN:VTIMEZONE
TZID:Europe/Berlin
X-LIC-LOCATION:Europe/Berlin
BEGIN:DAYLIGHT
DTSTART:20260329T030000
TZOFFSETFROM:+0100
TZOFFSETTO:+0200
TZNAME:CEST
END:DAYLIGHT
END:VTIMEZONE
END:VCALENDAR