BEGIN:VCALENDAR
VERSION:2.0
PRODID:-//wp-events-plugin.com//7.2.3.1//EN
TZID:Europe/Berlin
X-WR-TIMEZONE:Europe/Berlin
BEGIN:VEVENT
UID:2633@it-sicherheit.de
DTSTART;TZID=Europe/Berlin:20260302T090000
DTEND;TZID=Europe/Berlin:20260306T170000
DTSTAMP:20260122T141216Z
URL:https://it-sicherheit.de/veranstaltungen/t-i-s-p-teletrust-information
 -security-professional/
SUMMARY:T.I.S.P. – TeleTrusT Information Security Professional
DESCRIPTION:\n\n\nDas T.I.S.P.-Zertifikat ist das erste und einzige Experte
 nzertifikat im Bereich der Informationssicherheit\, das speziell auf den e
 uropäischen Raum abgestimmt ist und die dort verbreiteten Standards\, Rah
 menbedingungen und Gesetzgebungen berücksichtigt. Als Inhaber des T.I.S.P
 .-Zertifikats belegen Sie Ihre Qualifikation\, Fähigkeiten und Kenntnisse
  im Bereich der Informationssicherheit\, dem Sicherheitsmanagement und der
  IT-Sicherheit.\n\nDie T.I.S.P.-Prüfung wird von dem unabhängigen Zertif
 izierungsinstitut PersCert TÜV abgenommen\, der Personenzertifizierungsst
 elle des TÜV Rheinland. Die Prüfung findet online statt und kann am Frei
 tag in der Woche nach dieser fünftägigen T.I.S.P.-Schulung absolviert we
 rden.\n\n\n\n\n\n\n\nMit Bestehen der TISP-Prüfung erlangen Sie ein Zerti
 fikat mit 3 Jahren Gültigkeit und der Möglichkeit zur kontinuierlichen R
 e-Zertifizierung für weitere 3 Jahre.\n\n\n\n\n
CATEGORIES:Schulungen und Seminare
LOCATION:https://www.is-its.org/seminare/isits-seminarangebot/tisp-teletrus
 t-information-security-professional
END:VEVENT
BEGIN:VTIMEZONE
TZID:Europe/Berlin
X-LIC-LOCATION:Europe/Berlin
BEGIN:STANDARD
DTSTART:20251026T020000
TZOFFSETFROM:+0200
TZOFFSETTO:+0100
TZNAME:CET
END:STANDARD
END:VTIMEZONE
END:VCALENDAR