BEGIN:VCALENDAR
VERSION:2.0
PRODID:-//wp-events-plugin.com//7.2.3.1//EN
TZID:Europe/Berlin
X-WR-TIMEZONE:Europe/Berlin
BEGIN:VEVENT
UID:888@it-sicherheit.de
DTSTART;TZID=Europe/Berlin:20240829T140000
DTEND;TZID=Europe/Berlin:20240829T220000
DTSTAMP:20240917T101007Z
URL:https://it-sicherheit.de/veranstaltungen/soa-startup-open-air/
SUMMARY:SOA - STARTUP OPEN AIR
DESCRIPTION:SOA – drei kleine Buchstaben\, hinter denen etwas riesiges st
 eckt: Das STARTUP OPEN AIR des DIGITALHUB.DE in Bonn am 29. August!
ATTACH;FMTTYPE=image/jpeg:https://it-sicherheit.de/wp-content/uploads/2024
 /08/SOA_LinkedIn_1920x1080.jpg
CATEGORIES:Messen
LOCATION:DigitalHub Bonn\, Rheinwerkallee 6\, 53227 Bonn\, Bonn\, Nordrhein
 -Westfalen\, 53227\, Rheinland\, Deutschland
X-APPLE-STRUCTURED-LOCATION;VALUE=URI;X-ADDRESS=Rheinwerkallee 6\, 53227 Bo
 nn\, Bonn\, Nordrhein-Westfalen\, 53227\, Rheinland\, Deutschland;X-APPLE-
 RADIUS=100;X-TITLE=DigitalHub Bonn:geo:0,0
END:VEVENT
BEGIN:VTIMEZONE
TZID:Europe/Berlin
X-LIC-LOCATION:Europe/Berlin
BEGIN:DAYLIGHT
DTSTART:20240331T030000
TZOFFSETFROM:+0100
TZOFFSETTO:+0200
TZNAME:CEST
END:DAYLIGHT
END:VTIMEZONE
END:VCALENDAR