BEGIN:VCALENDAR
VERSION:2.0
PRODID:-//wp-events-plugin.com//7.2.3.1//EN
TZID:Europe/Berlin
X-WR-TIMEZONE:Europe/Berlin
BEGIN:VEVENT
UID:2488@it-sicherheit.de
DTSTART;TZID=Europe/Berlin:20260701T090000
DTEND;TZID=Europe/Berlin:20260702T170000
DTSTAMP:20251211T125634Z
URL:https://it-sicherheit.de/veranstaltungen/sicherheitsexpo-2/
SUMMARY:SicherheitsExpo
DESCRIPTION:Die SicherheitsExpo präsentiert innovative Lösungen\, die Unt
 ernehmen\, öffentliche Einrichtungen und Privatpersonen zuverlässig vor 
 internen und externen Bedrohungen schützen. Ob Industrieanlagen\, Banke
 n\, Kliniken\, Transport- und Handelsunternehmen\, Bahnhöfe\, Flughäfen\
 , Museen oder Behörden – die Messe zeigt praxisnahe Technik für höch
 ste Sicherheitsanforderungen.\n\nMit einem hochkarätigen Vortragsprogram
 m gilt die SicherheitsExpo seit Jahren als Impulsgeber für zukunftsweise
 nde Sicherheitslösungen. Dabei stehen nicht nur Sicherheit und Präventio
 n im Mittelpunkt\, sondern auch der wirtschaftliche Mehrwert effizienter S
 icherheitsinvestitionen.\n\nDie Messeschwerpunkte bilden folgende Bereiche
 :\n\n 	Zutrittskontrolle\n 	Videoüberwachung\n 	Brandschutz\n 	Perimeter 
 Protection\n 	IT-Security\n 	Drohnen/Unbemannte Systeme\n 	Gefahrenmeldete
 chnik\n 	Sicherheitsberatung und Planung\n\nMehr Informationen finden Sie 
 hier: www.sicherheitsexpo.de
ATTACH;FMTTYPE=image/jpeg:https://it-sicherheit.de/wp-content/uploads/2025
 /12/SecuExpo_hoch.jpg
CATEGORIES:Messen
LOCATION:MOC München\, Lilienthalallee 40\, München\, 80939\, Deutschland
X-APPLE-STRUCTURED-LOCATION;VALUE=URI;X-ADDRESS=Lilienthalallee 40\, Münch
 en\, 80939\, Deutschland;X-APPLE-RADIUS=100;X-TITLE=MOC München:geo:0,0
END:VEVENT
BEGIN:VTIMEZONE
TZID:Europe/Berlin
X-LIC-LOCATION:Europe/Berlin
BEGIN:DAYLIGHT
DTSTART:20260329T030000
TZOFFSETFROM:+0100
TZOFFSETTO:+0200
TZNAME:CEST
END:DAYLIGHT
END:VTIMEZONE
END:VCALENDAR