BEGIN:VCALENDAR
VERSION:2.0
PRODID:-//wp-events-plugin.com//7.2.3.1//EN
TZID:Europe/Berlin
X-WR-TIMEZONE:Europe/Berlin
BEGIN:VEVENT
UID:2146@it-sicherheit.de
DTSTART;TZID=Europe/Berlin:20260630T090000
DTEND;TZID=Europe/Berlin:20260701T173000
DTSTAMP:20250918T101402Z
URL:https://it-sicherheit.de/veranstaltungen/sicherheit-in-azure-cloud-umg
 ebungen-online/
SUMMARY:Sicherheit in Azure-Cloud-Umgebungen - online
DESCRIPTION:Unsere erfahrene Trainer stellt Ihnen in diesem Training siche
 rheitsrelevante Funktionen der Microsoft-Azure-Cloud vor. Des Weiteren wer
 den Konfigurationsmöglichkeiten sowie Maßnahmen für die Administration 
 und den sicheren Betrieb von Azure-Umgebungen präsentiert.\n\nAusgehend v
 on typischen Bedrohungsszenarien lernen Sie mithilfe von Hands-on-Übungen
  und Demonstrationen\, welche Sicherheitsaspekte beim Design von Cloud-Arc
 hitekturen\, ihrer Konfiguration und ihrem Betrieb beachtet werden sollten
 .\n\nZunächst erörtern wir mit Ihnen typische Bedrohungsszenarien und Ri
 siken in Cloud-Umgebungen. Im ersten Teil dieser Schulung werden unter and
 erem die folgenden Themen besprochen:\n\n 	Datensicherheit vs. Datenverlus
 t\n 	Missbrauch von Accounts bzw. Identitätsdiebstahl\n 	Unzureichende Cl
 oud-Strategie\n 	Notfallkonzepte\n 	Angriffe auf die Verfügbarkeit\n\nIm 
 zweiten Teil der Schulung werden die spezifischen Risiken in Azure-Cloud-U
 mgebungen diskutiert und Maßnahmen vorgestellt\, um diese Risiken zu mini
 mieren. Dabei geht es unter anderem um folgende Aspekte:\n\n 	Sicherer Auf
 bau einer Azure-Infrastruktur\n 	Absicherung der Cloud\n 	Berechtigungsman
 agement\n 	Logging\n 	Integration von Azure-Umgebungen in eine bestehende 
 Unternehmensinfrastruktur\n\nDarüber hinaus zeigen wir typische organisat
 orische und technische Herausforderungen des sicheren Betriebs einer Azure
 -Cloud-Umgebung auf und diskutieren mögliche Lösungsansätze.\n\nJedem T
 eilnehmer steht für den Verlauf der Schulung eine Übungsumgebung in Azur
 e zur Verfügung\, um die vermittelten Inhalte während der Schulung prakt
 isch umzusetzen.\n\nDie Teilnehmer haben am Ende der Schulung ein tieferes
  Verständnis für mögliche Bedrohungen und können die Maßnahmen und Em
 pfehlungen zur Absicherung von Azure-Cloud-Umgebungen zukünftig effizient
  umsetzen.\n\nZielgruppe: Sicherheitsverantwortliche\, Administratoren\, 
 IT-Architekten\, Verantwortliche im Bereich Cloud.\n\nVoraussetzungen: Vo
 n Vorteil sind Grundkenntnisse zur allgemeinen Arbeit auf der Kommandozeil
 e und zu netzwerktechnischen Grundlagen.\n\nPreis: 1.995\,- € zzgl. MwS
 t.\n\nWeitere Informationen und eine Anmeldemöglichkeit finden Sie hier.
CATEGORIES:Schulungen und Seminare
END:VEVENT
BEGIN:VTIMEZONE
TZID:Europe/Berlin
X-LIC-LOCATION:Europe/Berlin
BEGIN:DAYLIGHT
DTSTART:20260329T030000
TZOFFSETFROM:+0100
TZOFFSETTO:+0200
TZNAME:CEST
END:DAYLIGHT
END:VTIMEZONE
END:VCALENDAR