BEGIN:VCALENDAR
VERSION:2.0
PRODID:-//wp-events-plugin.com//7.2.3.1//EN
TZID:Europe/Berlin
X-WR-TIMEZONE:Europe/Berlin
BEGIN:VEVENT
UID:2486@it-sicherheit.de
DTSTART;TZID=Europe/Berlin:20260319T080000
DTEND;TZID=Europe/Berlin:20260320T080000
DTSTAMP:20251211T000753Z
URL:https://it-sicherheit.de/veranstaltungen/rethink-cybersecurity-ai/
SUMMARY:Rethink! Cybersecurity & AI
DESCRIPTION:Rethink! Cybersecurity &amp\; AI – Der Information Security E
 ntscheider-Summit!\n\nPhishing\, Ransomware &amp\; Co. haben Hochkonjunktu
 r. Auch staatlich unterstützte Cyberangriffe auf kritische Infrastrukture
 n nehmen zu. Gleichzeitig stellt der rasante Fortschritt der Künstlichen 
 Intelligenz (KI) sowohl eine Bedrohung als auch eine Chance für die IT-Si
 cherheit dar. Deepfake-Angriffe\, automatisierte Phishing-Kampagnen und KI
 -gestützte Malware erfordern neue Schutzmaßnahmen. Vorausschauende\, str
 ategische Cyber-Resilience\, effiziente Managed Security Services\, Schutz
  gegen Ransomware\, Mitarbeiter-Awareness und KI-gestützte Security-Lösu
 ngen werden daher immer zentraler. Die Rethink! Cybersecurity &amp\; AI bi
 etet eine exklusive Plattform\, um aktuelle Entwicklungen\, Projekte\, Her
 ausforderungen sowie innovative Technologien &amp\; Trends in den Bereiche
 n IT- &amp\; Cybersecurity während zweieinhalb Tagen interaktiv zu diskut
 ieren. Seien Sie Teil der Community und diskutieren Sie mit mehr als 486 T
 eilnehmern Themenschwerpunkte wie Cloud Security\, Zero Trust\, Incident R
 esponse\, Security Awareness und Cyber-Resilience. Weitere Top-Trends\, di
 e im Fokus stehen\, sind Extended Detection &amp\; Response (XDR)\, Supply
  Chain Security und die Absicherung von KI-gestützten Systemen.\n\nMehr I
 nformationen finden Sie hier: www.cybersecurity-ai.de
ATTACH;FMTTYPE=image/jpeg:https://it-sicherheit.de/wp-content/uploads/2025
 /12/Bild2.png
CATEGORIES:Kongresse
LOCATION:Titanic chaussee\, Chausseestraße 30\, Berlin\, 10115\, Deutschla
 nd
X-APPLE-STRUCTURED-LOCATION;VALUE=URI;X-ADDRESS=Chausseestraße 30\, Berlin
 \, 10115\, Deutschland;X-APPLE-RADIUS=100;X-TITLE=Titanic chaussee:geo:0,0
END:VEVENT
BEGIN:VTIMEZONE
TZID:Europe/Berlin
X-LIC-LOCATION:Europe/Berlin
BEGIN:STANDARD
DTSTART:20251026T020000
TZOFFSETFROM:+0200
TZOFFSETTO:+0100
TZNAME:CET
END:STANDARD
END:VTIMEZONE
END:VCALENDAR