BEGIN:VCALENDAR
VERSION:2.0
PRODID:-//wp-events-plugin.com//7.2.3.1//EN
TZID:Europe/Berlin
X-WR-TIMEZONE:Europe/Berlin
BEGIN:VEVENT
UID:211@it-sicherheit.de
DTSTART;TZID=Europe/Berlin;VALUE=DATE:20230921
DTEND;TZID=Europe/Berlin;VALUE=DATE:20230922
DTSTAMP:20240105T175504Z
URL:https://it-sicherheit.de/veranstaltungen/pki-workshop/
SUMMARY:PKI-Workshop
DESCRIPTION:https://www.teletrust.de/veranstaltungen/tutorials-workshops/eb
 ca-pki-2023/
CATEGORIES:Workshops
LOCATION:Leonardo Royal Hotel Berlin Alexanderplatz Otto-Braun-Straße 90\,
  Otto-Braun-Straße 90\, Berlin\, 10249\, Deutschland
X-APPLE-STRUCTURED-LOCATION;VALUE=URI;X-ADDRESS=Otto-Braun-Straße 90\, Ber
 lin\, 10249\, Deutschland;X-APPLE-RADIUS=100;X-TITLE=Leonardo Royal Hotel 
 Berlin Alexanderplatz Otto-Braun-Straße 90:geo:0,0
END:VEVENT
BEGIN:VTIMEZONE
TZID:Europe/Berlin
X-LIC-LOCATION:Europe/Berlin
BEGIN:DAYLIGHT
DTSTART:20230326T030000
TZOFFSETFROM:+0100
TZOFFSETTO:+0200
TZNAME:CEST
END:DAYLIGHT
END:VTIMEZONE
END:VCALENDAR