BEGIN:VCALENDAR
VERSION:2.0
PRODID:-//wp-events-plugin.com//7.2.3.1//EN
TZID:Europe/Berlin
X-WR-TIMEZONE:Europe/Berlin
BEGIN:VEVENT
UID:2919@it-sicherheit.de
DTSTART;TZID=Europe/Berlin:20260616T000000
DTEND;TZID=Europe/Berlin:20260617T000000
DTSTAMP:20260424T064446Z
URL:https://it-sicherheit.de/veranstaltungen/pits-public-it-security/
SUMMARY:PITS Public IT-Security
DESCRIPTION:
CATEGORIES:Sonstige
LOCATION:Hotel Adlon Berlin\, Unter den Linden 77\, Berlin\, 10117\, Deutsc
 hland
X-APPLE-STRUCTURED-LOCATION;VALUE=URI;X-ADDRESS=Unter den Linden 77\, Berli
 n\, 10117\, Deutschland;X-APPLE-RADIUS=100;X-TITLE=Hotel Adlon Berlin:geo:
 0,0
END:VEVENT
BEGIN:VTIMEZONE
TZID:Europe/Berlin
X-LIC-LOCATION:Europe/Berlin
BEGIN:DAYLIGHT
DTSTART:20260329T030000
TZOFFSETFROM:+0100
TZOFFSETTO:+0200
TZNAME:CEST
END:DAYLIGHT
END:VTIMEZONE
END:VCALENDAR