BEGIN:VCALENDAR
VERSION:2.0
PRODID:-//wp-events-plugin.com//7.2.3.1//EN
TZID:Europe/Berlin
X-WR-TIMEZONE:Europe/Berlin
BEGIN:VEVENT
UID:2077@it-sicherheit.de
DTSTART;TZID=Europe/Berlin:20260611T090000
DTEND;TZID=Europe/Berlin:20260611T173000
DTSTAMP:20250918T100347Z
URL:https://it-sicherheit.de/veranstaltungen/nis2-informationssicherheit-f
 uer-geschaeftsfuehrer-online/
SUMMARY:NIS2: Informationssicherheit für Geschäftsführer - online
DESCRIPTION:Die NIS2-Richtlinie für Cybersicherheit fordert von Geschäfts
 führern die regelmäßige Teilnahme an Schulungen\, die ihnen die notwend
 igen Kenntnisse und Fähigkeiten im Kontext Cybersicherheit vermitteln.\n\
 nOhne sich in den technischen Details zu verlieren\, gibt diese Schulung e
 inen Überblick über die wichtigsten Themen im Kontext der Informations-\
 nund IT-Sicherheit.\n\nNach einer Einführung der wichtigsten Grundlagen u
 nd Begriffe werden zunächst relevante und aktuelle Bedrohungen vorgestell
 t. Anschließend werden die wichtigsten Sicherheitsmaßnahmen ebenso wie n
 eue Trends und Buzzwords erläutert. Zudem werden Ansätze und Praktiken f
 ür das Risikomanagement vorgestellt und eingeordnet.\n\nNach Abschluss de
 s Trainings sind die Teilnehmer in der Lage\, Risiken zu erkennen und zu b
 ewerten sowie mit den nötigen Risikomanagementpraktiken im Bereich der Cy
 bersicherheit umzugehen.\n\nZielgruppe: Entscheider und Führungskräfte\,
  die nicht unbedingt aus dem IT-Bereich kommen und sich nicht mit vielen t
 echnischen Details belasten wollen.\n\nVoraussetzung: Allgemeines Grundver
 ständnis für IT\n\nDauer: 1 Tag\n\nPreis: 990\,- Euro\n\nWeitere Informa
 tionen und eine Anmeldemöglichkeit finden Sie hier.
CATEGORIES:Schulungen und Seminare
END:VEVENT
BEGIN:VTIMEZONE
TZID:Europe/Berlin
X-LIC-LOCATION:Europe/Berlin
BEGIN:DAYLIGHT
DTSTART:20260329T030000
TZOFFSETFROM:+0100
TZOFFSETTO:+0200
TZNAME:CEST
END:DAYLIGHT
END:VTIMEZONE
END:VCALENDAR