BEGIN:VCALENDAR
VERSION:2.0
PRODID:-//wp-events-plugin.com//7.2.3.1//EN
TZID:Europe/Berlin
X-WR-TIMEZONE:Europe/Berlin
BEGIN:VEVENT
UID:2865@it-sicherheit.de
DTSTART;TZID=Europe/Berlin:20260505T090000
DTEND;TZID=Europe/Berlin:20260507T170000
DTSTAMP:20260311T153021Z
URL:https://it-sicherheit.de/veranstaltungen/nis-2-implementer/
SUMMARY:NIS-2 Implementer
DESCRIPTION:Der Fokus des NIS-2 Implementer-Lehrgangs liegt darauf\, die Te
 ilnehmenden dazu zu befähigen\, die regulatorischen Vorgaben in konkrete 
 organisatorische\, technische und prozessuale Maßnahmen umzusetzen. Die d
 reitägige Schulung richtet sich an Teilnehmende\, die bereits eine initia
 le Gap-Analyse durchgeführt haben und ihre NIS-2-Umsetzung im Zuge besteh
 ender ISMS-Strukturen systematisch vertiefen und validieren möchten.\n\nD
 ie Schulung endet mit einem Abschlussworkshop\, in dem die Teilnehmenden i
 hre Ergebnisse zusammenführen und eine priorisierte Umsetzungsroadmap ent
 wickeln. Nach Abschluss des Workshops erhalten die Teilnehmenden ein Perso
 nenzertifikat der isits AG.\n\n&nbsp\;\n\nMehr dazu. 
CATEGORIES:Workshops
LOCATION:https://www.is-its.org/seminare/nis-2-implementer
END:VEVENT
BEGIN:VTIMEZONE
TZID:Europe/Berlin
X-LIC-LOCATION:Europe/Berlin
BEGIN:DAYLIGHT
DTSTART:20260329T030000
TZOFFSETFROM:+0100
TZOFFSETTO:+0200
TZNAME:CEST
END:DAYLIGHT
END:VTIMEZONE
END:VCALENDAR