BEGIN:VCALENDAR
VERSION:2.0
PRODID:-//wp-events-plugin.com//7.2.3.1//EN
TZID:Europe/Berlin
X-WR-TIMEZONE:Europe/Berlin
BEGIN:VEVENT
UID:2819@it-sicherheit.de
DTSTART;TZID=Europe/Berlin:20260708T090000
DTEND;TZID=Europe/Berlin:20260708T130000
DTSTAMP:20260210T164304Z
URL:https://it-sicherheit.de/veranstaltungen/nis-2-geschaeftsleitungsschul
 ung-5/
SUMMARY:NIS-2 Geschäftsleitungsschulung
DESCRIPTION:9In dieser vierstündigen Intensivschulung erhält die Geschäf
 tsleitung einen fundierten Überblick über die NIS-2-Richtlinie und deren
  operative Relevanz. Führungskräfte lernen die notwendigen Compliance-Sc
 hritte kennen\, um Haftungsrisiken effektiv zu senken und Bußgelder zu ve
 rmeiden. Der abschließende Nachweis bestätigt offiziell die Erfüllung d
 er Schulungspflicht gemäß § 38 Abs. 3 BSIG.
CATEGORIES:Schulungen und Seminare
LOCATION:https://www.mitsm.de/schulung/
END:VEVENT
BEGIN:VTIMEZONE
TZID:Europe/Berlin
X-LIC-LOCATION:Europe/Berlin
BEGIN:DAYLIGHT
DTSTART:20260329T030000
TZOFFSETFROM:+0100
TZOFFSETTO:+0200
TZNAME:CEST
END:DAYLIGHT
END:VTIMEZONE
END:VCALENDAR