BEGIN:VCALENDAR
VERSION:2.0
PRODID:-//wp-events-plugin.com//7.2.3.1//EN
TZID:Europe/Berlin
X-WR-TIMEZONE:Europe/Berlin
BEGIN:VEVENT
UID:209@it-sicherheit.de
DTSTART;TZID=Europe/Berlin;VALUE=DATE:20230913
DTEND;TZID=Europe/Berlin;VALUE=DATE:20230916
DTSTAMP:20240105T175449Z
URL:https://it-sicherheit.de/veranstaltungen/mcttp-munich-cyber-tactics-te
 chniques-und-prozeduren/
SUMMARY:MCTTP – Munich Cyber Tactics\, Techniques und Prozeduren
DESCRIPTION:Cyberangriffe haben sich von einer Rivalität zwischen IT-Nerds
  zu Cyberkriminalität\, dem Betrieb staatlicher Behörden und Cyberterror
 ismus entwickelt. Die Auswirkungen auf Unternehmen und Organisationen sind
  verheerend und der Druck auf CISOs und Cybersicherheitsmanager enorm. Die
  Aufgabe\, IT-Infrastruktur und geschäftskritische Daten in der aktuellen
  Ära des „New Normal“ vor aufwändigen Cyberangriffen zu schützen un
 d eine proaktive IT-Sicherheit zu gewährleisten\, steht im Mittelpunkt ih
 rer Tätigkeit.\n\nDeshalb haben wir – in Zusammenarbeit mit einem Progr
 ammkomitee aus anerkannten Sicherheitsexperten – das MCTTP Munich Cyber 
 ​​Tactics\, Techniques &amp\; Procedures 2023 ins Leben gerufen.\n\nEi
 ne Konferenz für Sicherheitstechniker und CISOs\, deren Hauptaufgabe dari
 n besteht\, zukunftsfähige Cybersicherheit in ihren Unternehmen zu schaff
 en.\n\nInformationen und Anmeldung.
ATTACH;FMTTYPE=image/jpeg:https://it-sicherheit.de/wp-content/uploads/2023
 /09/spy-5821903_1280-1.jpg
CATEGORIES:Kongresse
END:VEVENT
BEGIN:VTIMEZONE
TZID:Europe/Berlin
X-LIC-LOCATION:Europe/Berlin
BEGIN:DAYLIGHT
DTSTART:20230326T030000
TZOFFSETFROM:+0100
TZOFFSETTO:+0200
TZNAME:CEST
END:DAYLIGHT
END:VTIMEZONE
END:VCALENDAR