BEGIN:VCALENDAR
VERSION:2.0
PRODID:-//wp-events-plugin.com//7.2.3.1//EN
TZID:Europe/Berlin
X-WR-TIMEZONE:Europe/Berlin
BEGIN:VEVENT
UID:225@it-sicherheit.de
DTSTART;TZID=Europe/Berlin:20231129T110000
DTEND;TZID=Europe/Berlin:20231129T160000
DTSTAMP:20240105T175927Z
URL:https://it-sicherheit.de/veranstaltungen/kompetenztreffen-der-kg-siche
 rheit-supply-chain-resilience/
SUMMARY:Kompetenztreffen der KG Sicherheit: Supply Chain Resilience
DESCRIPTION:Vormittag: Aktueller Stand und Auswirkungen der KRITIS-Regulier
 ung\nIn unserem Vormittagsprogramm setzen wir uns intensiv mit den Auswirk
 ungen der EU-weit geltenden und zur Umsetzung in Deutschland anstehenden R
 egulierung auseinander. Wir beleuchten den aktuellen und künftigen rechtl
 ichen Rahmen aus Richtlinien und Verordnungen einschließlich ihrer konkre
 ten Ausformulierung in der deutschen Gesetzgebung. Vorträge zur Perspekti
 ve der Aufsichtsbehörden sowie Praxisbeispiele aus einzelnen betroffenen 
 Sektoren und Branchen erweitern den Überblick zum Stand der Lage.\n\nNach
 mittag: Operative Aspekte der Compliance\nNach einer stärkenden Mittagspa
 use und Networking in entspannter Atmosphäre\, widmen wir uns am Nachmitt
 ag den operativen Aspekten der Compliance im Kontext von IT-Sicherheitsanf
 orderungen für Betreiber kritischer Infrastrukturen. Hierbei wird sich di
 e Unterarbeitsgruppe „Operative Umsetzung“ erstmals treffen. Melden Si
 e sich jetzt an und seien Sie Teil dieser wichtigen Initiative!
ATTACH;FMTTYPE=image/jpeg:https://it-sicherheit.de/wp-content/uploads/2023
 /10/Kritis.jpg
CATEGORIES:Sonstige
LOCATION:eco - Verband der Internetwirtschaft e.V.\, Lichtstraße 43h\, Kö
 ln\, 50825 \, Deutschland
X-APPLE-STRUCTURED-LOCATION;VALUE=URI;X-ADDRESS=Lichtstraße 43h\, Köln\, 
 50825 \, Deutschland;X-APPLE-RADIUS=100;X-TITLE=eco - Verband der Internet
 wirtschaft e.V.:geo:0,0
END:VEVENT
BEGIN:VTIMEZONE
TZID:Europe/Berlin
X-LIC-LOCATION:Europe/Berlin
BEGIN:STANDARD
DTSTART:20231029T020000
TZOFFSETFROM:+0200
TZOFFSETTO:+0100
TZNAME:CET
END:STANDARD
END:VTIMEZONE
END:VCALENDAR