BEGIN:VCALENDAR
VERSION:2.0
PRODID:-//wp-events-plugin.com//7.2.3.1//EN
TZID:Europe/Berlin
X-WR-TIMEZONE:Europe/Berlin
BEGIN:VEVENT
UID:179@it-sicherheit.de
DTSTART;TZID=Europe/Berlin;VALUE=DATE:20230830
DTEND;TZID=Europe/Berlin;VALUE=DATE:20230914
DTSTAMP:20240105T175354Z
URL:https://it-sicherheit.de/veranstaltungen/ki-blockchain-und-internet-de
 r-dinge-realistische-bewertung/
SUMMARY:KI\, Blockchain und Internet der Dinge: Realistische Bewertung
DESCRIPTION:Die anfängliche Euphorie um Zukunftstechnologien wie Künstlic
 he Intelligenz\, Blockchain und das Internet der Dinge ist nach Ansicht de
 s Potsdamer Informatikwissenschaftlers Prof. Christoph Meinel mittlerweile
  vielfach von einer realistischeren Bewertung abgelöst worden.\n\n"Die er
 ste Aufregung hat sich gelegt\, weil einerseits diese bahnbrechenden neuen
  Technologien nun in ersten Produkten und Services tatsächlich erlebbar s
 ind\, und andererseits sich das technische Verständnis dafür weiterentwi
 ckelt hat"\, beobachtet der frühere Direktor des Potsdamer Hasso-Plattner
 -Instituts (HPI). Meinel startet am 30. August einen sechswöchigen kosten
 losen Onlinekurs\, in dem allen interessierten Laien ein realistischer Bli
 ck hinter den Hype um die drei Zukunftstechnologien vermittelt werden soll
 . Anmelden für den Gratiskurs kann man sich unter https://open.hpi.de/cou
 rses/zukunftstechnologien2023. Bereits jetzt haben sich 4.000 Personen daf
 ür eingeschrieben.\n\n"Die jüngste\, aufgeregte Diskussion rund um gener
 ative Künstliche Intelligenz in Sprachmodellen wie ChatGPT hat doch erneu
 t gezeigt\, wie ohne ausreichendes fachliches Verständnis zunächst entwe
 der Schreckensvisionen oder uneinlösbare Heilsversprechen verbreitet werd
 en"\, sagt der Informatikprofessor. Ähnlich sei es bei Blockchain-Anwendu
 ngen für Kryptowährungen wie Bitcoins oder Non-Fungible Tokens (NFT)\, a
 lso einzigartigen digitalen Besitznachweisen immaterieller Güter\, verlau
 fen oder beim Internet of Things (abgekürzt: IoT)\, das schon seit einige
 n Jahren in der Wirtschaft wie in Privathaushalten Maschinen und Geräte z
 unehmend vernetzt.\nZiel: Reflektierte Betrachtung digitaler Innovationen\
 nDeshalb wollen Meinel und das Kursleiter-Team mit dem Onlinekurs auf der 
 offenen Lernplattform openHPI alle Interessierten wissenschaftlich präzis
 e\, aber allgemeinverständlich über die Chancen und Risiken von Künstli
 cher Intelligenz\, Blockchain und Internet der Dinge aufklären. "Wir woll
 en vor allem junge Berufseinsteiger\, aber auch an Weiterbildung interessi
 erte Beschäftigte dazu bringen\, diese digitalen Innovationen reflektiert
  zu betrachten"\, sagt Meinel. Die Entwicklungen und ihre Anwendungsmögli
 chkeiten sollen realistisch bewertet und sachlich eingeordnet werden. "Wir
  alle dürfen diese Technologie-Trends nicht unterschätzen\, sollten ihne
 n aber auch nicht naiv hinterherlaufen"\, betont Meinel.\n\nDer Potsdamer 
 Wissenschaftler hatte im Frühjahr zu den ersten gehört\, die etwa von de
 r unvorsichtigen Preisgabe sensibler eigener Daten beim Ausprobieren neues
 ter Anwendungen Künstlicher Intelligenz abrieten. Allen solle bewusst sei
 n\, dass man mit den Anfragen und Daten gratis die KI-Modelle der Anbieter
  trainiere und schlau mache\, hatte Meinel betont. Unter Umständen könnt
 en Geschäftsgeheimnisse preisgegeben werden und die Vertraulichkeit pers
 önlicher Daten verloren gehen.\n\nhttps://open.hpi.de ist Europas Pionier
  unter den offenen Lernplattformen\, die für alle Interessierten zugängl
 ich sind. Seine kostenlosen Onlinekurse zu Informationstechnologie- und In
 novationsthemen startete das Hasso-Plattner-Institut am 5. September 2012.
  Mittlerweile wurden auf openHPI gut 1\,2 Millionen Kurseinschreibungen re
 gistriert - sowohl von IT-Einsteigern\, als auch von Experten für digital
 e Transformation. Rund 340.000 Personen aus 180 Ländern gehören derzeit 
 auf der Plattform zum festen Nutzerkreis dieser Massive Open Online Course
 s (MOOC). Er wächst täglich. Für besonders erfolgreiche Teilnehmende st
 ellte das Institut bisher 140.000 Zertifikate aus. Auch die bislang angebo
 tenen gut 100 Kurse stehen im Archivmodus nach wie vor kostenfrei zur Verf
 ügung. Studierende können sich für das Absolvieren von openHPI-Kursen a
 uch Leistungspunkte an ihrer Universität anrechnen lassen. Partnerplattfo
 rmen\, die mit derselben Lerntechnologie arbeiten\, sind neben openSAP und
  OpenWHO zum Beispiel auch KI-Campus\, eGov-Campus und Kommunalcampus.
CATEGORIES:Sonstige
END:VEVENT
BEGIN:VTIMEZONE
TZID:Europe/Berlin
X-LIC-LOCATION:Europe/Berlin
BEGIN:DAYLIGHT
DTSTART:20230326T030000
TZOFFSETFROM:+0100
TZOFFSETTO:+0200
TZNAME:CEST
END:DAYLIGHT
END:VTIMEZONE
END:VCALENDAR