BEGIN:VCALENDAR
VERSION:2.0
PRODID:-//wp-events-plugin.com//7.2.3.1//EN
TZID:Europe/Berlin
X-WR-TIMEZONE:Europe/Berlin
BEGIN:VEVENT
UID:213@it-sicherheit.de
DTSTART;TZID=Europe/Berlin;VALUE=DATE:20230928
DTEND;TZID=Europe/Berlin;VALUE=DATE:20230929
DTSTAMP:20240316T131139Z
URL:https://it-sicherheit.de/veranstaltungen/it-sicherheitsrechtstag-2023/
SUMMARY:IT-Sicherheitsrechtstag 2023
DESCRIPTION:Das IT-Sicherheitsgesetz und artverwandte Rechtsvorschriften we
 rfen eine Reihe von Fragen politischer\, rechtlicher und technischer Art a
 uf\, die nach Kommentierung rufen. Der Rechtsmaterie entsprechend muss die
  Analyse interdisziplinär\, das heißt aus rechtlichem\, politischem und 
 technischem Blickwinkel erfolgen. Dieser Interdisziplinarität ist der Tel
 eTrusT-IT-Sicherheitsrechtstag verpflichtet.\n\nDie Veranstaltung ist stet
 s praxisnah angelegt\, um den Teilnehmenden die Möglichkeit zu geben\, si
 ch über die aktuelle Gesetzeslage zu informieren\, die Möglichkeiten der
  rechtskonformen Umsetzung kennenzulernen und dabei wertvolle Kontakte zu 
 knüpfen. Der TeleTrusT-IT-Sicherheitsrechtstag richtet sich traditionell 
 an Interessierte aus Unternehmen\, öffentlichen Einrichtungen\, Forschung
  und Behörden\n\nInfo &amp\; Anmeldung
CATEGORIES:Schulungen und Seminare
LOCATION:The Westin Grand Hotel\, Friedrichstraße 158 - 164\, Berlin\, 101
 17\, Deutschland
X-APPLE-STRUCTURED-LOCATION;VALUE=URI;X-ADDRESS=Friedrichstraße 158 - 164\
 , Berlin\, 10117\, Deutschland;X-APPLE-RADIUS=100;X-TITLE=The Westin Grand
  Hotel:geo:0,0
END:VEVENT
BEGIN:VTIMEZONE
TZID:Europe/Berlin
X-LIC-LOCATION:Europe/Berlin
BEGIN:DAYLIGHT
DTSTART:20230326T030000
TZOFFSETFROM:+0100
TZOFFSETTO:+0200
TZNAME:CEST
END:DAYLIGHT
END:VTIMEZONE
END:VCALENDAR