BEGIN:VCALENDAR
VERSION:2.0
PRODID:-//wp-events-plugin.com//7.2.3.1//EN
TZID:Europe/Berlin
X-WR-TIMEZONE:Europe/Berlin
BEGIN:VEVENT
UID:178@it-sicherheit.de
DTSTART;TZID=Europe/Berlin:20230920T083000
DTEND;TZID=Europe/Berlin:20230920T171500
DTSTAMP:20240105T175457Z
URL:https://it-sicherheit.de/veranstaltungen/it-sicherheit-im-datennetz-in
 -der-gebaeudeautomation/
SUMMARY:IT-Sicherheit im Datennetz in der Gebäudeautomation
DESCRIPTION:\n\n\nIT-Sicherheit im Datennetz in der Gebäudeautomation (Kur
 s-Nr.: 65 20 832)\n\nIhr Unternehmensnetz ist mit dem Internet verbunden. 
 Sie möchten aus dem Internet den Fernzugriff zwecks Fernsteuerung\, Fernb
 edienung oder Fernwartung auf ein IP-System in Ihrem Firmennetzwerk ermög
 lichen. Zum Beispiel soll über das Smartphone auf die KNX-Gebäudesteueru
 ng zugegriffen werden. Im Internet lauern viele Gefahren. Wir hören fast 
 täglich von Angriffen\, Sabotage bzw. Datenklau – davor bleiben auch kl
 eine Unternehmens-Netzwerke nicht verschont.\n\nDieses Seminar identifizie
 rt die wesentlichen Gefahrenbereiche und zeigt effiziente und wirtschaftli
 che Maßnahmen zur Umsetzung einer erfolgreichen Sicherheitslösung auf. A
 lle wichtigen Bausteine zur Absicherung von LAN\, WLAN\, IP-Endgeräte und
  (Web-)Servern werden detailliert erklärt und an praktischen Beispielen d
 ie Sicherheitslösungen aufgezeigt.\n\nKursinhalte:\n\n 	Bedrohungen – G
 efahrenpotentiale\n 	Maßnahmenkatalog für ein sicheres Unternehmensnetz\
 n 	einfache und kostengünstige Maßnahmen zum Schutz des Windows XP/7/8-P
 Cs\n 	Sicherheitsmaßnahmen für IP-Geräte\, wie KNX-Panel\, IP-Kamera\, 
 etc.\n 	Absicherung des Firmennetzes durch Unternehmens-Firewalls und Intr
 usion-Prevention-Systeme (IPS)\n 	Firewalltechniken\n 	sicherer Datenzugri
 ff mittels Smartphone\, Tablet-PC\, Notebook oder PC über das Internet\n 
 	Sicherheitsmaßnahmen für das WLAN\n 	Fernzugriff auf Digitalstromserver
  (DSS)\n 	Fernbedienung des KNX-Panels über VNC\n 	sichere Anbindung an d
 as Unternehmensnetz mit VirtualPrivateNetwork (VPN)\n 	SSL-VPN (Open VPN)/
 IPSec-VPN\n 	VPN-Lösungen mit der AVM-FritzBox\n 	Einsatz Security-Gatewa
 y\n\nKursziel: Sie kennen die erforderlichen Maßnahmen\, um ihre Daten\, 
 Arbeitsplatzcomputer\, Endgeräte und Produktssyteme von den Gefahren (aus
  dem Internet) zu schützen. Anhand von Praxisaufgaben konfigurieren Sie g
 esicherte Fernzugriffe über VPN mit der AVM-Fritz Box. Sie lernen die Lei
 stungsmerkmale eines Security Gateways kennen und konfigurieren damit die 
 Unternehmensfirewall sowie SSL-VPN und IPSec-VPN-Verbindungen.\n\nZielgrup
 pe: Elektrofachkräfte aus Industrie oder Handwerk\, die im Rahmen ihrer T
 ätigkeit mit der Installation von Datennetzen und der Einrichtung von End
 geräten in Berührung kommen.\n\nKursvoraussetzung: Netzwerktechnik-Grund
 kenntnisse\n\nAbschluss:  Sie erhalten ein etz-Zertifikat.\n\nKursdauer:
   10 Unterrichtseinheiten\, von 8:30 bis 17:15 Uhr\n\nKursgebühr: 369\,0
 0 € inkl. Kursunterlagen und Verpflegung\n\nInfo und Anmeldung.\n\n\n\n&
 nbsp\;\n\n\n\n\n\n\n
CATEGORIES:Schulungen und Seminare
END:VEVENT
BEGIN:VTIMEZONE
TZID:Europe/Berlin
X-LIC-LOCATION:Europe/Berlin
BEGIN:DAYLIGHT
DTSTART:20230326T030000
TZOFFSETFROM:+0100
TZOFFSETTO:+0200
TZNAME:CEST
END:DAYLIGHT
END:VTIMEZONE
END:VCALENDAR