BEGIN:VCALENDAR
VERSION:2.0
PRODID:-//wp-events-plugin.com//7.2.3.1//EN
TZID:Europe/Berlin
X-WR-TIMEZONE:Europe/Berlin
BEGIN:VEVENT
UID:2863@it-sicherheit.de
DTSTART;TZID=Europe/Berlin:20260421T090000
DTEND;TZID=Europe/Berlin:20260422T170000
DTSTAMP:20260311T151847Z
URL:https://it-sicherheit.de/veranstaltungen/it-security-training-angriff-
 verteidigung-nis-2-compliance/
SUMMARY:IT-Security Training: Angriff\, Verteidigung &amp\; NIS-2 Complianc
 e
DESCRIPTION:Gewinnen Sie einen umfassenden Einblick in die faszinierende We
 lt des Red- und Blue-Teamings! In unserem zweitägigen IT-Security-Trainin
 g erhalten Sie eine fundierte Einführung in die unternehmerischen und tec
 hnischen Aspekte der offensiven und defensiven IT-Sicherheit. Das Awarenes
 s-Seminar (mit technischer Tiefe) vermittelt Ihnen das Wissen über die An
 griffs- und Abwehrtechniken der Profis (Schulungspflicht nach NIS-2).\n\nN
 ach der Schulung sind Sie in der Lage\, aktuelle Cyber-Bedrohungen zu bewe
 rten und technische Sicherheitsstrategien zu beurteilen. Zudem werden weit
 erführende Qualifikationsmöglichkeiten für Interessierte vorgestellt.\n
 \nHier erfahren Sie mehr zu diesem Seminar.
CATEGORIES:Schulungen und Seminare
LOCATION:https://www.is-its.org/seminare/blue-und-red-teaming-foundation
END:VEVENT
BEGIN:VTIMEZONE
TZID:Europe/Berlin
X-LIC-LOCATION:Europe/Berlin
BEGIN:DAYLIGHT
DTSTART:20260329T030000
TZOFFSETFROM:+0100
TZOFFSETTO:+0200
TZNAME:CEST
END:DAYLIGHT
END:VTIMEZONE
END:VCALENDAR