BEGIN:VCALENDAR
VERSION:2.0
PRODID:-//wp-events-plugin.com//7.2.3.1//EN
TZID:Europe/Berlin
X-WR-TIMEZONE:Europe/Berlin
BEGIN:VEVENT
UID:1280@it-sicherheit.de
DTSTART;TZID=Europe/Berlin:20241022T090000
DTEND;TZID=Europe/Berlin:20241024T180000
DTSTAMP:20250109T060022Z
URL:https://it-sicherheit.de/veranstaltungen/it-sa-expocongress-2024/
SUMMARY:it-sa Expo&Congress 2024
DESCRIPTION:HOME OF IT SECURITY – it-sa Expo&amp\;Congress\nWir freuen u
 ns auf ein Wiedersehen in Nürnberg vom 22. bis 24. Oktober 2024!\nDie it-
 sa ist das HOME OF IT SECURITY – mit der it-sa Expo&amp\;Congress bietet
  die it-sa allen eine Messeheimat\, die sich professionell dem Thema IT-Si
 cherheit widmen.\n\nDie Fachmesse zählt zu den weltweit größten Dialogp
 lattformen für branchenspezifische IT-Security-Lösungen. Sie bringt Expe
 rten vor Ort in Nürnberg zusammen und ist mit aktuellen Themen\, fachspez
 ifischen Forenbeiträgen und inspirierenden Vorträgen Trendbarometer für
  den gesamten IT-Sicherheitsmarkt. Das begleitende Kongressprogramm Congre
 ss@it-sa bietet Raum für den vertieften fachlichen Austausch zu konkreten
  Fragen und spezifischen Herausforderungen.\n\nVom 22. bis 24. Oktober 202
 4 treffen sich erneut internationale IT-Sicherheitsexperten und Entscheide
 r im Messezentrum Nürnberg zum Austausch über Herausforderungen und Tren
 ds in der Cybersicherheit.\n\nHerzlich willkommen in der Welt der IT-Siche
 rheit!\n\nTermin 2024 speichern!
ATTACH;FMTTYPE=image/jpeg:https://it-sicherheit.de/wp-content/uploads/2024
 /09/Header_It-sa.webp
CATEGORIES:Kongresse,Messen
LOCATION:NürnbergMesse GmbH\, Messezentrum 1\, Nürnberg\, 90471\, Deutsch
 land
X-APPLE-STRUCTURED-LOCATION;VALUE=URI;X-ADDRESS=Messezentrum 1\, Nürnberg\
 , 90471\, Deutschland;X-APPLE-RADIUS=100;X-TITLE=NürnbergMesse GmbH:geo:0
 ,0
END:VEVENT
BEGIN:VTIMEZONE
TZID:Europe/Berlin
X-LIC-LOCATION:Europe/Berlin
BEGIN:DAYLIGHT
DTSTART:20240331T030000
TZOFFSETFROM:+0100
TZOFFSETTO:+0200
TZNAME:CEST
END:DAYLIGHT
END:VTIMEZONE
END:VCALENDAR