BEGIN:VCALENDAR
VERSION:2.0
PRODID:-//wp-events-plugin.com//7.2.3.1//EN
TZID:Europe/Berlin
X-WR-TIMEZONE:Europe/Berlin
BEGIN:VEVENT
UID:2444@it-sicherheit.de
DTSTART;TZID=Europe/Berlin:20261216T090000
DTEND;TZID=Europe/Berlin:20261216T170000
DTSTAMP:20260305T084925Z
URL:https://it-sicherheit.de/veranstaltungen/it-rist-management-nach-iso-2
 7005-online-3/
SUMMARY:IT Rist Management nach ISO 27005
DESCRIPTION:In diesem eintägigen Kurs lernst du\, verschiedene Ansätze vo
 n Risikomanagement – vor allem die Phasen Risikoabschätzung (Risk Esti
 mation)\, Risikoanalyse (Risk Analysis) und Risikobewertung (Risk Evalu
 ation)\, also die gesamte Bandbreite der Risikoeinschätzung (Risk Assess
 ment) – in der Praxis umzusetzen.\n\nNatürlich gehen wir auch auf die 
 Phasen Risikobehandlung (Risk Treatment) und Risikoakzeptanz (Risk Acce
 ptance) ein. Wir arbeiten gemeinsam mit dir verschiedene Arten von Risik
 o-Klassifizierungsmöglichkeiten (Kriterien zur Risikobewertung) für die
  Parameter Eintrittswahrscheinlichkeit\, Schadenshöhe und Erkennungswa
 hrscheinlichkeit aus. Du erfährst\, welche Voraussetzungen im Sinne des I
 SMS bereits erfüllt sein müssen\, um mit dem Risikomanagement beginnen z
 u können\, wann und wie häufig das Risikomanagement durchlaufen werden m
 uss und wie es in das ISMS\, vor allem im kontinuierlichen Verbesserungspr
 ozess\, eingebunden ist.\n\n\n&nbsp\;\n\nInhalt der Schulung\n\n 	\n\n 	Ei
 nführung in das IT-Risikomanagement\n\n\n\n&nbsp\;\n\n 	Grundlagen der IT
 -Risikoanalyse\n 	Vorgehensweise bei der IT-Risikoanalyse\n 	Risikobewertu
 ng und Risikobehandlung\n 	Methoden und Werkzeuge zur Unterstützung des I
 T-Risikomanagements\n 	ISO/IEC 27005 als Framework für das IT-Risikomanag
 ement\n 	Integration des IT-Risikomanagements in das IT-Sicherheitsmanagem
 ent\n\n&nbsp\;\n\nDie Schulung soll dir die notwendigen Kenntnisse und Fä
 higkeiten vermitteln\, um IT-Risiken in deinem Unternehmen oder deiner Org
 anisation zu identifizieren\, zu bewerten und zu behandeln und somit das I
 T-Sicherheitsniveau zu erhöhen.\n\n&nbsp\;\n\nZielgruppe\n\n 	\n\n 	IT-Si
 cherheitsverantwortliche\n 	IT-Risikomanager\n\n\n\n&nbsp\;\n\n 	IT-Audito
 ren\n 	IT-Projektleiter\n 	IT-Systemadministratoren\n 	IT-Sicherheitsbeauf
 tragte\n 	Andere IT-Experten\, die für die Identifikation\, Bewertung\, B
 ehandlung und Überwachung von IT-Risiken in Organisationen verantwortlich
  sind\n\nLernziele\n\nNach Abschluss der Schulung sind die Teilnehmer in d
 er Lage:\n\n 	grundlegende Konzepte und Methoden des IT-Risikomanagements
  nach ISO 275 zu erlernen\,\n 	eine Risikoanalyse und Risikobewertung
  durchzuführen sowie geeignete Maßnahmen zur Risikobehandlung zu empfeh
 len\,\n 	eine umfassende Schulung zu den relevanten Normen und Best Pra
 ctices des IT-Risikomanagements zu erhalten.\n
ATTACH;FMTTYPE=image/jpeg:https://it-sicherheit.de/wp-content/uploads/2025
 /12/iStock-1401942487-10.jpg
CATEGORIES:Schulungen und Seminare
LOCATION:mITSM Schulungszentrum im NEWTON\, Ridlerstraße 57\, München\, B
 ayern\, 80339\, Deutschland
X-APPLE-STRUCTURED-LOCATION;VALUE=URI;X-ADDRESS=Ridlerstraße 57\, München
 \, Bayern\, 80339\, Deutschland;X-APPLE-RADIUS=100;X-TITLE=mITSM Schulungs
 zentrum im NEWTON:geo:0,0
END:VEVENT
BEGIN:VTIMEZONE
TZID:Europe/Berlin
X-LIC-LOCATION:Europe/Berlin
BEGIN:STANDARD
DTSTART:20261025T020000
TZOFFSETFROM:+0200
TZOFFSETTO:+0100
TZNAME:CET
END:STANDARD
END:VTIMEZONE
END:VCALENDAR