BEGIN:VCALENDAR
VERSION:2.0
PRODID:-//wp-events-plugin.com//7.2.3.1//EN
TZID:Europe/Berlin
X-WR-TIMEZONE:Europe/Berlin
BEGIN:VEVENT
UID:2866@it-sicherheit.de
DTSTART;TZID=Europe/Berlin:20260505T090000
DTEND;TZID=Europe/Berlin:20260507T170000
DTSTAMP:20260311T153740Z
URL:https://it-sicherheit.de/veranstaltungen/it-grundschutz-praktiker-2/
SUMMARY:IT-Grundschutz-Praktiker
DESCRIPTION:Das Online-Seminar zum IT-Grundschutz-Praktiker verschafft Ihne
 n einen umfassenden Einblick in die Inhalte und die Anwendung der IT-Grund
 schutz-Methodik des BSI. Anhand von Fallstudien und praktischen Übungen w
 ird die Vorgehensweise bei der Anwendung des IT-Grundschutzes praxisnah ve
 rmittelt.\n\nIm Mittelpunkt stehen dabei die BSI-Standards 200-x und die I
 T-Grundschutz-Methodik. Nach Abschluss des Webinars sind Sie in der Lage\,
  zielgerichtet Sicherheitskonzepte nach BSI IT-Grundschutz zu erstellen.\n
 \nDas Seminar ist der Einstieg in das offizielle Zertifizierungsprogramm d
 es BSI und hat die Entsprechung zur IT-Grundschutz-Basisschulung. Die Prü
 fung findet am dritten Tag statt.\n\n&nbsp\;\n\nHier erfahren Sie mehr.
CATEGORIES:Schulungen und Seminare
LOCATION:https://www.is-its.org/seminare/isits-seminarangebot/it-grundschut
 z-praktiker
END:VEVENT
BEGIN:VTIMEZONE
TZID:Europe/Berlin
X-LIC-LOCATION:Europe/Berlin
BEGIN:DAYLIGHT
DTSTART:20260329T030000
TZOFFSETFROM:+0100
TZOFFSETTO:+0200
TZNAME:CEST
END:DAYLIGHT
END:VTIMEZONE
END:VCALENDAR