BEGIN:VCALENDAR
VERSION:2.0
PRODID:-//wp-events-plugin.com//7.2.3.1//EN
TZID:Europe/Berlin
X-WR-TIMEZONE:Europe/Berlin
BEGIN:VEVENT
UID:2915@it-sicherheit.de
DTSTART;TZID=Europe/Berlin:20261102T090000
DTEND;TZID=Europe/Berlin:20261105T170000
DTSTAMP:20260423T101007Z
URL:https://it-sicherheit.de/veranstaltungen/iso-iec-270012022-lead-audito
 r/
SUMMARY:ISO/IEC 27001:2022 Lead Auditor
DESCRIPTION:Dieses Seminar ISO 27001 Lead Auditor in Kooperation mit PECB b
 efähigt Sie\, das notwendige Fachwissen zu entwickeln\, um ein Informatio
 nssicherheitsmanagementsystem (ISMS) zu auditieren\, indem Sie allgemein a
 nerkannte Auditprinzipien\, Verfahren und Techniken anwenden.\n\nIm Rahmen
  dieser Schulung erwerben Sie die Kenntnisse und die Fertigkeiten zur Plan
 ung und Durchführung interner und externer Audits gemäß ISO 19011 und I
 SO/IEC 17021-1 Zertifizierungsprozess. Mithilfe praktischer Übungen werde
 n Sie Audit-Techniken beherrschen und ein Audit-Programm\, ein Audit-Team\
 , die Kommunikation mit Kunden und die Konfliktlösung managen lernen.\n\n
 Am Ende dieser Schulung werden Sie in der Lage sein:\n\n 	Die Anforderunge
 n der ISO/IEC 27001 an ein ISMS aus der Sicht eines Auditors zu interpreti
 eren\n 	Die Konformität des ISMS mit den Anforderungen der ISO/IEC 27001 
 in Übereinstimmung mit den grundlegenden Konzepten und Prinzipien der Aud
 itierung zu bewerten\n 	Ein Audit zur ISO/IEC 27001-Konformität gemäß d
 en Anforderungen der ISO/IEC 17021-1\, den Richtlinien der ISO 19011 und w
 eiteren bewährten Verfahren der Auditierung zu planen\, durchzuführen un
 d abzuschließen.\n 	Ein Auditprogramm nach ISO/IEC 27001 zu steuern\n\nDi
 eses Seminar richtet sich an Auditoren\, Berater und Führungskräfte. Das
  viertägige Seminar vor Ort kostet 2.499 € zzgl. MwSt. und beinhaltet n
 eben der Verpflegung alle Schulungsunterlagen sowie die Zertifikats- und P
 rüfungsgebühren. Nach erfolgreicher Prüfung erhalten Sie das Zertifikat
  PECB Certified ISO/IEC 27001 Lead Auditor. Das Webinar ist über unsere H
 omepage unter ISO 27001 Lead Auditor | tacticx Consulting GmbH buchbar.\n
 \nDieses Training ISO 27001 Lead Auditor bereitet Sie auf die Prüfung ein
 es Informationssicherheits- Managementsystems (ISMS) nach ISO/IEC 27001 vo
 r. Während dieses Training erwerben Sie das Wissen und die Fähigkeiten\,
  um interne und externe Audits in Übereinstimmung mit ISO 19011 und ISO/I
 EC 17021-1 zu planen und durchzuführen. Folgende Inhalte werden betrachte
 t:\n\n 	Einführung in das ISMS und ISO/IEC 27001\n 	Auditgrundsätze\, Vo
 rbereitung eines Audits\n 	Prüfungsaktivitäten vor Ort\n 	Abschluss des 
 Audits\n\nSollte Ihnen der Termin nicht passen oder Sie lieber in Ihrem ei
 genen Tempo die Themen erarbeiten\, so informieren Sie sich gerne auf unse
 rer Homepage unter ISO 27001 Lead Auditor | tacticx Consulting GmbH über 
 die Option SelfLearn+.
CATEGORIES:Schulungen und Seminare
LOCATION:Victor`s Residenz-Hotel Berlin-Mitte\, Am Friedrichshain 17\, Berl
 in\, 10407\, Deutschland
X-APPLE-STRUCTURED-LOCATION;VALUE=URI;X-ADDRESS=Am Friedrichshain 17\, Berl
 in\, 10407\, Deutschland;X-APPLE-RADIUS=100;X-TITLE=Victor`s Residenz-Hote
 l Berlin-Mitte:geo:0,0
END:VEVENT
BEGIN:VTIMEZONE
TZID:Europe/Berlin
X-LIC-LOCATION:Europe/Berlin
BEGIN:STANDARD
DTSTART:20261025T020000
TZOFFSETFROM:+0200
TZOFFSETTO:+0100
TZNAME:CET
END:STANDARD
END:VTIMEZONE
END:VCALENDAR