BEGIN:VCALENDAR
VERSION:2.0
PRODID:-//wp-events-plugin.com//7.2.3.1//EN
TZID:Europe/Berlin
X-WR-TIMEZONE:Europe/Berlin
BEGIN:VEVENT
UID:2912@it-sicherheit.de
DTSTART;TZID=Europe/Berlin:20260929T090000
DTEND;TZID=Europe/Berlin:20260930T170000
DTSTAMP:20260424T095022Z
URL:https://it-sicherheit.de/veranstaltungen/iso-27001-foundation-6/
SUMMARY:ISO 27001 Foundation
DESCRIPTION:Die Schulung ISO 27001 Foundation in Kooperation mit PECB ermö
 glicht es Ihnen\, die grundlegenden Elemente zur Umsetzung und Steuerung e
 ines ISMS nach ISO/IEC 27001:2022 zu erlernen. Im Rahmen dieser Schulung l
 ernen Sie die verschiedenen Bausteine des ISMS kennen. Neben den Richtlini
 en\, Verfahren und Leistungsmessungen zählen hierzu auch die Verpflichtun
 gen und Bewertungen des Managements\, interne Audits sowie die fortlaufend
 e Verbesserung des Systems.\n\nNach Abschluss dieser Schulung können Sie 
 eine Prüfung ablegen und den Berechtigungsnachweis „PECB Certificate Ho
 lder in ISO/IEC 27001:2022 Foundation“ beantragen. Mit dem PECB Foundati
 on-Zertifikat zeigen Sie\, dass Sie die grundlegenden Methoden\, Anforderu
 ngen\, Rahmenbedingungen und den Managementansatz kennen und verstanden ha
 ben.\n\nDieses zweitägige Seminar richtet sich an Einsteiger und kostet 9
 98 € zzgl. MwSt. Der Preis beinhaltet die Schulungsunterlagen sowie die 
 Zertifikats- und Prüfungsgebühren. Die Veranstaltung ist über unsere Ho
 mepage unter Seminar ISO 27001 Foundation buchbar.\n\nDas Seminar ISO 270
 01 Foundation ist der Einstieg in das Management der Informationssicherhei
 t. Wir vermitteln alle wichtigen Grundlagen und Anforderungen der ISO/IEC 
 27001:2022 an ein Informationssicherheitsmanagmentsystem (ISMS). Sie lerne
 n Herangehensweisen\, Methoden und Techniken im Rahmen der Einrichtung\, U
 msetzung\, Aufrechterhaltung und fortlaufenden Verbesserung eines ISMS. Fo
 lgende Inhalte werden betrachtet:\n\n 	Grundlagen\n 	Informationssicherhei
 tsmanagementsystem (ISMS)\n\nSollte Ihnen der Termin nicht passen oder Sie
  lieber in Ihrem eigenen Tempo die Themen erarbeiten\, so informieren Sie 
 sich gerne auf unserer Homepage unter Seminar ISO 27001 Foundation über d
 ie Option SelfLearn+.
CATEGORIES:Schulungen und Seminare
LOCATION:Best Western Plus Welcome Hotel Frankfurt\, Leonardo-da-Vinci-Alle
 e 2\, Frankfurt am Main\, 60486\, Deutschland
X-APPLE-STRUCTURED-LOCATION;VALUE=URI;X-ADDRESS=Leonardo-da-Vinci-Allee 2\,
  Frankfurt am Main\, 60486\, Deutschland;X-APPLE-RADIUS=100;X-TITLE=Best W
 estern Plus Welcome Hotel Frankfurt:geo:0,0
END:VEVENT
BEGIN:VTIMEZONE
TZID:Europe/Berlin
X-LIC-LOCATION:Europe/Berlin
BEGIN:DAYLIGHT
DTSTART:20260329T030000
TZOFFSETFROM:+0100
TZOFFSETTO:+0200
TZNAME:CEST
END:DAYLIGHT
END:VTIMEZONE
END:VCALENDAR