BEGIN:VCALENDAR
VERSION:2.0
PRODID:-//wp-events-plugin.com//7.2.3.1//EN
TZID:Europe/Berlin
X-WR-TIMEZONE:Europe/Berlin
BEGIN:VEVENT
UID:2849@it-sicherheit.de
DTSTART;TZID=Europe/Berlin:20260625T090000
DTEND;TZID=Europe/Berlin:20260626T170000
DTSTAMP:20260325T121829Z
URL:https://it-sicherheit.de/veranstaltungen/iso-27001-foundation-5/
SUMMARY:ISO 27001 Foundation
DESCRIPTION:ISO 27001 Foundation\n\n\nDu erlernst in diesem zweitägigen Gr
 undlagenseminar zum Thema Information Security Management praxisnah die Mi
 ndestanforderungen der ISO-Norm 27001. Wir gehen auf die Maßnahmen zur Um
 setzung der Norm ein und bereiten dich intensiv auf die Zertifizierungspr
 üfung am Ende der Weiterbildung vor. Du brauchst für diese Schulung kein
 e Vorkenntnisse. Kurs und Prüfung sind in deutscher Sprache.\n\n\nInhalt 
 der Schulung\nIn unserer ISO 27001 Foundation Schulung lernst du die Grund
 lagen des Informationssicherheitsmanagements nach dem internationalen Stan
 dard ISO/IEC 27001 kennen. Folgender Inhalt erwartet dich:\n\n 	Einführun
 g in die Informationssicherheit\n 	Grundlagen der Informationssicherheits-
 Managementsysteme (ISMS)\n 	Anforderungen der Norm ISO/IEC 27001:2022\n 	R
 isikomanagement im Zusammenhang mit Informationssicherheit\n 	Implementier
 ung und Überwachung von Maßnahmen zur Informationssicherheit\n 	Durchfü
 hrung interner Audits und Bewertung des ISMS\n 	Vorbereitung auf die Zerti
 fizierung nach ISO/IEC 27001:2022.\n
ATTACH;FMTTYPE=image/jpeg:https://it-sicherheit.de/wp-content/uploads/2026
 /03/iStock-1401942487.jpg
CATEGORIES:Sonstige
LOCATION:mITSM Schulungszentrum im NEWTON\, Ridlerstraße 57\, München\, B
 ayern\, 80339\, Deutschland
X-APPLE-STRUCTURED-LOCATION;VALUE=URI;X-ADDRESS=Ridlerstraße 57\, München
 \, Bayern\, 80339\, Deutschland;X-APPLE-RADIUS=100;X-TITLE=mITSM Schulungs
 zentrum im NEWTON:geo:0,0
END:VEVENT
BEGIN:VTIMEZONE
TZID:Europe/Berlin
X-LIC-LOCATION:Europe/Berlin
BEGIN:DAYLIGHT
DTSTART:20260329T030000
TZOFFSETFROM:+0100
TZOFFSETTO:+0200
TZNAME:CEST
END:DAYLIGHT
END:VTIMEZONE
END:VCALENDAR