BEGIN:VCALENDAR
VERSION:2.0
PRODID:-//wp-events-plugin.com//7.2.3.1//EN
TZID:Europe/Berlin
X-WR-TIMEZONE:Europe/Berlin
BEGIN:VEVENT
UID:2916@it-sicherheit.de
DTSTART;TZID=Europe/Berlin:20261201T090000
DTEND;TZID=Europe/Berlin:20261202T170000
DTSTAMP:20260424T095409Z
URL:https://it-sicherheit.de/veranstaltungen/iso-22301-foundation/
SUMMARY:Webinar ISO 22301 Foundation
DESCRIPTION:Das Seminar ISO 22301 Foundation ermöglicht es Ihnen\, die gru
 ndlegenden Elemente zur Umsetzung und Steuerung eines Business Continuity 
 Management Systems (BCMS) nach ISO 22301 zu erlernen. Im Rahmen dieser Sch
 ulung lernen Sie die verschiedenen Bausteine des BCMS kennen. Neben den Ri
 chtlinien\, Verfahren und Leistungsmessungen gehören hierzu auch die Verp
 flichtung des Managements\, interne Audits\, die Managementbewertung sowie
  ein fortlaufender Verbesserungsprozess.\n\nNach Abschluss dieser Schulung
  können Sie eine Prüfung ablegen und den Berechtigungsnachweis „PECB C
 ertificate Holder in ISO 22301 Foundation“ beantragen. Mit dem PECB Foun
 dation-Zertifikat zeigen Sie\, dass Sie die grundlegenden Methoden\, Anfor
 derungen\, Rahmenbedingungen und den Managementansatz kennen und verstande
 n haben.\n\nAm Ende dieser Schulung haben die Teilnehmenden ein fundiertes
  Wissen über:\n\n 	Die Konzepte\, Grundsätze und Definition eines BCMS\n
  	Die Hauptanforderungen der ISO 22301 an ein BCMS\n 	Ansätze und Technik
 en zur Umsetzung und Fortführung eines BCMS\n\nDieses zweitägige Webinar
  richtet sich an Einsteiger und kostet 899 € zzgl. MwSt. Der Preis beinh
 altet die Schulungsunterlagen sowie die Zertifikats- und Prüfungsgebühre
 n. Die Veranstaltung ist über unsere Homepage unter Seminar ISO 22301 Fou
 ndation buchbar.\n\nDieses Seminar ist der Einstieg in den Bereich der Ge
 schäftskontinuität. Wir vermitteln alle wichtigen Grundlagen und Anforde
 rungen der ISO 22301 an ein Business Continuity Management System (BCMS). 
 Sie lernen Herangehensweisen\, Methoden und Techniken im Rahmen der Einric
 htung\, Umsetzung\, Aufrechterhaltung und fortlaufenden Verbesserung eines
  solchen BCMS.\n\nFolgende Inhalte werden betrachtet:\n\n 	Grundlagen\n 	B
 usiness Continuity Management System (BCMS)\n\nSollte Ihnen der Termin nic
 ht passen oder Sie lieber in Ihrem eigenen Tempo die Themen erarbeiten\, s
 o informieren Sie sich gerne auf unserer Homepage unter Seminar ISO 22301 
 Foundation über die Option SelfLearn+.
CATEGORIES:Schulungen und Seminare
END:VEVENT
BEGIN:VTIMEZONE
TZID:Europe/Berlin
X-LIC-LOCATION:Europe/Berlin
BEGIN:STANDARD
DTSTART:20261025T020000
TZOFFSETFROM:+0200
TZOFFSETTO:+0100
TZNAME:CET
END:STANDARD
END:VTIMEZONE
END:VCALENDAR