BEGIN:VCALENDAR
VERSION:2.0
PRODID:-//wp-events-plugin.com//7.2.3.1//EN
TZID:Europe/Berlin
X-WR-TIMEZONE:Europe/Berlin
BEGIN:VEVENT
UID:2323@it-sicherheit.de
DTSTART;TZID=Europe/Berlin:20260511T090000
DTEND;TZID=Europe/Berlin:20260512T170000
DTSTAMP:20260223T125225Z
URL:https://it-sicherheit.de/veranstaltungen/iso-22301-business-continuity
 -foundation-3/
SUMMARY:ISO 22301 Business Continuity Foundation
DESCRIPTION:\n\n\nBusiness Continuity Management (BCM) – Grundlagen und A
 nwendung\nWas tun\, wenn plötzlich nichts mehr geht? Ob Cyberangriff\, St
 romausfall oder Naturkatastrophe – Business Continuity Management (BCM
 ) hilft Organisationen\, auch in Krisensituationen handlungsfähig zu blei
 ben. In dieser Schulung lernst du\, wie du ein wirksames BCM-System aufbau
 st und nachhaltig betreibst.\nWas du in der Schulung lernst\n\n\n 	Was bed
 eutet Business Continuity Management (BCM)?\n 	Welche Risiken und Szenarie
 n können auftreten – und wie lassen sie sich systematisch bewerten?\n 
 	Wie sieht eine wirksame Notfallorganisation aus – und welche Rollen br
 aucht es dafür?\n 	Was unterscheidet Lagebilder – und wie geht man dam
 it sinnvoll um?\n 	Warum ist Resilienz der Schlüssel zu nachhaltigem Ges
 chäftsbetrieb?\n\nInhalte der Schulung\nEinführung in Notfall- und Busin
 ess Continuity Management\n\n\n 	Ziele\, Vorgehensweise und zentrale Unter
 schiede\n 	Einführung in die Normenwelt: ISO 22300 und ISO/IEC 22301\n
  	Grundlagen und Anwendungsbereiche von BCM nach ISO/IEC 22301\n\nDas Busi
 ness Continuity Management System (BCMS)\nEin wirksames BCMS basiert auf e
 inem systematischen und normkonformen Vorgehen:\n\n\n 	Kontext der Organis
 ation: Erwartungen\, Anforderungen und Anwendungsbereich\n 	Führung und 
 Organisation: Rollen\, Verantwortlichkeiten und Steuerung\n 	Konzeption:
  Planung\, Ressourcen\, Kommunikation und Kompetenzmanagement\n\nRisikobe
 wertung &amp\; Business-Impact-Analyse\n\n\n 	Identifikation von Bedrohung
 en und Schwachstellen\n 	Auswirkungen auf Geschäftsprozesse analysieren\n
  	Entwicklung robuster Strategien und Lösungen\n\nNotfallplanung und Wied
 erherstellung\n\n\n 	Pläne und Verfahren für Notfälle\n 	Effektive Reak
 tion und strukturierte Wiederherstellung\n\nTests und Übungen im BCMS\n\n
 \n 	Planung und Durchführung von Übungen\n 	Lessons Learned und kontinui
 erliche Verbesserung\n\nDokumentation &amp\; Zertifizierung\n\n\n 	Dokumen
 tation und Berichterstattung im BCM-Kontext\n 	Bewertung\, Audit und Verbe
 sserung eines BCMS\n\nAm Ende dieser Schulung verfügst du über das Wisse
 n\, ein BCM-System gemäß ISO/IEC 22301 zu planen\, umzusetzen und zu v
 erbessern – praxisnah\, verständlich und direkt anwendbar.\nBusiness Co
 ntinuity Management (BCM) &amp\; Notfallmanagement – Verantwortung über
 nehmen in Krisenzeiten\nWenn Systeme ausfallen oder Krisen eintreten\, kom
 mt es auf schnelle\, überlegte und koordinierte Reaktionen an. In dieser 
 Schulung lernst du\, wie du ein wirksames Notfallmanagement aufbaust und e
 in Business Continuity Management System (BCMS) gemäß internationalen St
 andards etablierst.\nZielgruppe\nDiese Schulung richtet sich an Personen\,
  die im Unternehmen für die Aufrechterhaltung des Geschäftsbetriebs vera
 ntwortlich sind – vor\, während und nach einer Krise.\n\n\n 	Netzwerka
 dministratoren\, die für IT-Infrastrukturen und deren Ausfallsicherheit z
 uständig sind\n 	Datenschutzbeauftragte\, die sicherstellen müssen\, das
 s auch im Notfall der Datenschutz gewahrt bleibt\n 	Information Security O
 fficer\, die Risikomanagement und Sicherheitsstrategien verantworten\n 	F
 ührungskräfte und Projektleiter\, insbesondere IT-Leiter\, die Prozesse
  steuern und Entscheidungen treffen\n\nDas erwartet dich in der Schulung\n
 \n\n 	Grundlagen des BCM: Begriffe\, Ziele und gesetzliche Anforderungen\
 n 	Einführung in relevante Normen: ISO/IEC 2231 und ISO 223\n 	Aufbau ei
 nes BCMS: Rollen\, Prozesse\, Dokumentation und Umsetzung\n 	Notfallorgan
 isation und Lagebilder: Strukturierte Entscheidungsfindung in kritischen 
 Situationen\n 	Business Impact Analyse &amp\; Risikoanalyse: Risiken erke
 nnen und richtig priorisieren\n 	Strategien und Maßnahmen: Entwicklung u
 nd Pflege von Notfallplänen\n 	Tests &amp\; Übungen: Sicherstellung der
  Wirksamkeit des BCM durch regelmäßige Überprüfung\n\nDein Nutzen\nNac
 h Abschluss der Schulung kannst du:\n\n\n 	ein funktionierendes BCM-System
  aufbauen und implementieren\n 	im Krisenfall strukturiert und zielgericht
 et handeln\n 	gesetzliche Anforderungen und Standards sicher erfüllen\n 	
 dein Unternehmen resilienter und handlungsfähiger machen\n\nBereite dich 
 vor – auf das\, was hoffentlich nie passiert\, aber jederzeit passieren 
 kann.\n\n\n\n
ATTACH;FMTTYPE=image/jpeg:https://it-sicherheit.de/wp-content/uploads/2025
 /11/iStock-1401942487-141.jpg
CATEGORIES:Schulungen und Seminare
LOCATION:mITSM Schulungszentrum im NEWTON\, Ridlerstraße 57\, München\, B
 ayern\, 80339\, Deutschland
X-APPLE-STRUCTURED-LOCATION;VALUE=URI;X-ADDRESS=Ridlerstraße 57\, München
 \, Bayern\, 80339\, Deutschland;X-APPLE-RADIUS=100;X-TITLE=mITSM Schulungs
 zentrum im NEWTON:geo:0,0
END:VEVENT
BEGIN:VTIMEZONE
TZID:Europe/Berlin
X-LIC-LOCATION:Europe/Berlin
BEGIN:DAYLIGHT
DTSTART:20260329T030000
TZOFFSETFROM:+0100
TZOFFSETTO:+0200
TZNAME:CEST
END:DAYLIGHT
END:VTIMEZONE
END:VCALENDAR