BEGIN:VCALENDAR
VERSION:2.0
PRODID:-//wp-events-plugin.com//7.2.3.1//EN
TZID:Europe/Berlin
X-WR-TIMEZONE:Europe/Berlin
BEGIN:VEVENT
UID:2631@it-sicherheit.de
DTSTART;TZID=Europe/Berlin:20260223T090000
DTEND;TZID=Europe/Berlin:20260227T183000
DTSTAMP:20260122T135535Z
URL:https://it-sicherheit.de/veranstaltungen/irca-isms-iso-iec-270012022-l
 ead-auditor/
SUMMARY:IRCA ISMS ISO/IEC 27001:2022 Lead Auditor
DESCRIPTION:In fünf Schulungstagen erlernen Sie das notwendige Wissen\, um
  interne und externe Audits im Bereich Informationssicherheitsmanagement n
 ach ISO 27001:2022 vorbereiten\, durchführen und nachbereiten zu können.
  Dabei orientieren wir uns an der ISO 19011\, dem internationalen Leitfade
 n für die Auditierung von Managementsystemen.\n\nDer Kurs besteht aus ein
 er Kombination aus klassischem Unterricht\, Best Practices\, Gruppenarbeit
 en und Rollenspielen in einer interaktiven Lernumgebung. Sie erhalten eine
 n umfassenden Einblick in die Arbeit eines ISMS-Auditors und profitieren v
 on der Erfahrung unserer Trainerinnen und Trainer\, die über jahrelange i
 nternationale Praxiserfahrung in der Auditierung von ISMS nach ISO 27001 v
 erfügen.\n\nNach erfolgreicher Teilnahme und Bestehen der Prüfung dürfe
 n Sie sich „ISMS Lead Auditor nach ISO 27001” nennen.\n\n&nbsp\;\n\nHi
 er geht es zur Anmeldung und allen weiteren Informationen.
CATEGORIES:Schulungen und Seminare
LOCATION:isits AG International School of IT Security\, Huestraße 30\, Boc
 hum\, 44787\, Deutschland
X-APPLE-STRUCTURED-LOCATION;VALUE=URI;X-ADDRESS=Huestraße 30\, Bochum\, 44
 787\, Deutschland;X-APPLE-RADIUS=100;X-TITLE=isits AG International School
  of IT Security:geo:0,0
END:VEVENT
BEGIN:VTIMEZONE
TZID:Europe/Berlin
X-LIC-LOCATION:Europe/Berlin
BEGIN:STANDARD
DTSTART:20251026T020000
TZOFFSETFROM:+0200
TZOFFSETTO:+0100
TZNAME:CET
END:STANDARD
END:VTIMEZONE
END:VCALENDAR