BEGIN:VCALENDAR
VERSION:2.0
PRODID:-//wp-events-plugin.com//7.2.3.1//EN
TZID:Europe/Berlin
X-WR-TIMEZONE:Europe/Berlin
BEGIN:VEVENT
UID:177@it-sicherheit.de
DTSTART;TZID=Europe/Berlin;VALUE=DATE:20230818
DTEND;TZID=Europe/Berlin;VALUE=DATE:20230822
DTSTAMP:20240105T175322Z
URL:https://it-sicherheit.de/veranstaltungen/informationssicherheitsbeauft
 ragter-ausbildung-mit-zertifizierung/
SUMMARY:Informationssicherheitsbeauftragter - Ausbildung mit Zertifizierung
DESCRIPTION:\n\n\nDurch die fortschreitende Digitalisierung steigt für vie
 le Unternehmen und Organisationen auch die Bedrohung durch Hackerangriffe.
  Die Sicherheit von Daten und Informationen (auch Informationssicherheit g
 enannt) ist eventuell nicht mehr gewährleistet. Informationssicherheit be
 zeichnet den Schutz von Informationen vor unbefugten Zugriffen oder Manipu
 lationen. Sie soll die Vertraulichkeit\, Verfügbarkeit und Integrität vo
 n informationsverarbeitenden und informationslagernden Systemen sicherstel
 len.\n\nUm die Informationssicherheit zu gewährleisten ist die Einführun
 g eines Informationssicherheitsmanagementsystems (ISMS) sinnvoll. Für die
  Planung und Umsetzung dieses Systems kann ein Informationssicherheitsmana
 gement-Beauftragter (ISMB) bestellt werden. Dieser ist neben seiner Funkti
 on als Ansprechpartner auch für die Ausarbeitung von Sicherheitskonzepten
 \, die Schulung der Mitarbeiter und die Beratung der Geschäftsführung zu
 ständig.\n\nIn unserer Ausbildung zum ISMB nach ISO 27001 und dem BSI Gru
 ndschutzstandard lernen Sie alle relevanten Aspekte der Informationssicher
 heit kennen und können im Anschluss ein entsprechendes Managementsicherhe
 itssystem umsetzen und weiterentwickeln.\n\nZielgruppe: Mitarbeiter der ED
 V/ IT\, die sich mit dem Thema Informationssicherheit auseinandersetzen wo
 llen\; verantwortliche Personen aus den Bereichen Informationssicherheit\,
  Informationstechnologie\, IT-Organisation\, IT-Beratung\, Revision und Ri
 sikomanagement.\n\nVoraussetzungen:\n\nGrundkenntnisse im Bereich der ISO 
 Normen\, BSI Grundschutz und DSGVO sind von Vorteil jedoch nicht zwingend 
 erforderlich.\n\nDie Zulassung zur Prüfung setzt voraus:\n\n 	ausgefüllt
 es und unterschriebenes Anmeldeformular\n 	abgeschlossene Berufsausbildung
  oder höherwertig\, Studenten (FH\, Uni) &gt\; 4. Semester\n 	min. 1 Jahr
  Vollzeitberufserfahrung\n\nOben genannte Unterlagen müssen dem TAW Cert 
 spätestens 14 Tage vor Seminarbeginn vorliegen. Gerne können Sie uns die
  Unterlagen übersenden und wir melden Sie dann beim TAW Cert an. Die Erte
 ilung des Zertifikates setzt den Nachweis der Teilnahme an min. 80 % der U
 nterrichtszeit voraus.\n\nInformationen und Anmeldung.\n\n\n
ATTACH;FMTTYPE=image/jpeg:https://it-sicherheit.de/wp-content/uploads/2023
 /08/sign-304093_1280.png
CATEGORIES:Schulungen und Seminare
END:VEVENT
BEGIN:VTIMEZONE
TZID:Europe/Berlin
X-LIC-LOCATION:Europe/Berlin
BEGIN:DAYLIGHT
DTSTART:20230326T030000
TZOFFSETFROM:+0100
TZOFFSETTO:+0200
TZNAME:CEST
END:DAYLIGHT
END:VTIMEZONE
END:VCALENDAR