BEGIN:VCALENDAR
VERSION:2.0
PRODID:-//wp-events-plugin.com//7.2.3.1//EN
TZID:Europe/Berlin
X-WR-TIMEZONE:Europe/Berlin
BEGIN:VEVENT
UID:2892@it-sicherheit.de
DTSTART;TZID=Europe/Berlin:20260414T100000
DTEND;TZID=Europe/Berlin:20260414T110000
DTSTAMP:20260327T102856Z
URL:https://it-sicherheit.de/veranstaltungen/informationssicherheit-ohne-r
 egel-dschungel/
SUMMARY:Informationssicherheit ohne Regel-Dschungel
DESCRIPTION:Viele Unternehmen stehen beim Thema Informationssicherheit vor 
 der gleichen Situation: Es gibt zahlreiche Vorgaben wie NIS2\, ISO 27001 o
 der den BSI IT-Grundschutz\, doch was davon tatsächlich relevant ist\, b
 leibt oft unklar. Statt Klarheit entsteht schnell ein Gefühl von Regel-D
 schungel – mit vielen Anforderungen\, aber wenig Orientierung.\n\nIn der
  Praxis führt das dazu\, dass Maßnahmen parallel aufgebaut werden\, Zust
 ändigkeiten unklar bleiben oder Anforderungen falsch priorisiert werden. 
 Einige Unternehmen investieren viel Aufwand\, ohne zu wissen\, ob sie die 
 richtigen Themen adressieren. Andere zögern\, weil sie nicht einschätzen
  können\, wo sie überhaupt anfangen sollen. Genau hier hilft es\, die Zu
 sammenhänge der Regelwerke zu verstehen und sicher einordnen zu können.\
 n\nIn diesem Webinar erfahren Sie:\n\n 	Für welche Unternehmen NIS2\, ISO
  27001 und BSI IT-Grundschutz relevant sind\n 	Wo sich die Anforderungen u
 nterscheiden und wo sie sich überschneiden\n 	Wie Sie die verschiedenen V
 orgaben sinnvoll einordnen\n 	Was Aufsichtsbehörden und Auditoren tatsäc
 hlich erwarten\n 	Wie Sie Informationssicherheit strukturiert und praxisna
 h umsetzen\n
ATTACH;FMTTYPE=image/jpeg:https://it-sicherheit.de/wp-content/uploads/2026
 /03/AdobeStock_563886800.jpg
CATEGORIES:Schulungen und Seminare
LOCATION:https://lpm.manageforwork.de/1/16638/webinar-ism-grundlagegesetze/
 ?reg_source=KO_ISM_MFW_E_live-WBI_1404_ITSicherheit
END:VEVENT
BEGIN:VTIMEZONE
TZID:Europe/Berlin
X-LIC-LOCATION:Europe/Berlin
BEGIN:DAYLIGHT
DTSTART:20260329T030000
TZOFFSETFROM:+0100
TZOFFSETTO:+0200
TZNAME:CEST
END:DAYLIGHT
END:VTIMEZONE
END:VCALENDAR