BEGIN:VCALENDAR
VERSION:2.0
PRODID:-//wp-events-plugin.com//7.2.3.1//EN
TZID:Europe/Berlin
X-WR-TIMEZONE:Europe/Berlin
BEGIN:VEVENT
UID:882@it-sicherheit.de
DTSTART;TZID=Europe/Berlin:20250625T133000
DTEND;TZID=Europe/Berlin:20250625T180000
DTSTAMP:20250325T084627Z
URL:https://it-sicherheit.de/veranstaltungen/infoguard-security-lounge/
SUMMARY:InfoGuard Security Lounge
DESCRIPTION:InfoGuard Security Lounge: Es erwarten Sie spannende Keynotes\,
  interessante Einblicke in Cyber-Angriffe\, Referate unserer Pentest- und 
 CSIRT-Teams sowie von unseren Presenting-Partnern.
CATEGORIES:Kongresse
LOCATION:https://www.infoguard.ch/de/securitylounge-25
END:VEVENT
BEGIN:VTIMEZONE
TZID:Europe/Berlin
X-LIC-LOCATION:Europe/Berlin
BEGIN:DAYLIGHT
DTSTART:20250330T030000
TZOFFSETFROM:+0100
TZOFFSETTO:+0200
TZNAME:CEST
END:DAYLIGHT
END:VTIMEZONE
END:VCALENDAR