BEGIN:VCALENDAR
VERSION:2.0
PRODID:-//wp-events-plugin.com//7.2.3.1//EN
TZID:Europe/Berlin
X-WR-TIMEZONE:Europe/Berlin
BEGIN:VEVENT
UID:2910@it-sicherheit.de
DTSTART;TZID=Europe/Berlin:20260423T000000
DTEND;TZID=Europe/Berlin:20260423T000000
DTSTAMP:20260420T074538Z
URL:https://it-sicherheit.de/veranstaltungen/infinigate-innovation-summit/
SUMMARY:Infinigate Innovation Summit
DESCRIPTION:Accelerate towards a secure digital future. Together.
CATEGORIES:Sonstige
LOCATION:Rheingoldhalle (RGH) Mainz\, Rheinstraße 66\, Mainz\, 55116\, Deu
 tschland
X-APPLE-STRUCTURED-LOCATION;VALUE=URI;X-ADDRESS=Rheinstraße 66\, Mainz\, 5
 5116\, Deutschland;X-APPLE-RADIUS=100;X-TITLE=Rheingoldhalle (RGH) Mainz:g
 eo:0,0
END:VEVENT
BEGIN:VTIMEZONE
TZID:Europe/Berlin
X-LIC-LOCATION:Europe/Berlin
BEGIN:DAYLIGHT
DTSTART:20260329T030000
TZOFFSETFROM:+0100
TZOFFSETTO:+0200
TZNAME:CEST
END:DAYLIGHT
END:VTIMEZONE
END:VCALENDAR