BEGIN:VCALENDAR
VERSION:2.0
PRODID:-//wp-events-plugin.com//7.2.3.1//EN
TZID:Europe/Berlin
X-WR-TIMEZONE:Europe/Berlin
BEGIN:VEVENT
UID:2164@it-sicherheit.de
DTSTART;TZID=Europe/Berlin:20260420T090000
DTEND;TZID=Europe/Berlin:20260424T180000
DTSTAMP:20251015T124412Z
URL:https://it-sicherheit.de/veranstaltungen/hannover-messe-2026/
SUMMARY:Hannover Messe 2026
DESCRIPTION:Die HANNOVER MESSE 2026 nimmt ihren Platz als Weltleitmesse der
  Industrie vom 20. bis 24. April 2026 in Hannover ein.  Unter dem Leitthem
 a „Industrial Transformation“ werden auf dem Messegelände in Hannover
  zahlreiche Lösungen für Automatisierung\, Digitalisierung und Elektrifi
 zierung der Industrie präsentiert.  Die Veranstaltung bietet eine integri
 erte Plattform\, auf der alle Schlüsseltechnologien und Kernbereiche der 
 industriellen Wertschöpfung\, von Forschung und Entwicklung über Industr
 ieautomation und IT bis hin zu Zulieferung\, Produktionstechnologien\, Ene
 rgie und Mobilität\, gemeinsam gezeigt werden.  Zudem entstehen neue räu
 mliche und thematische Architekturen: Es werden drei klar definierte Ausst
 ellungsbereiche angeboten\, die dazu dienen\, zentrale Technologien des in
 dustriellen Wandels übersichtlich zu bündeln.
ATTACH;FMTTYPE=image/jpeg:https://it-sicherheit.de/wp-content/uploads/2025
 /10/HANNOVER-MESSE.png
CATEGORIES:Messen
LOCATION:HANNOVER MESSE 2026\, Messegelände\, Hannover\, Niedersachsen
  \, 30521\, Deutschland
X-APPLE-STRUCTURED-LOCATION;VALUE=URI;X-ADDRESS=Messegelände\, Hannover\, 
 Niedersachsen \, 30521\, Deutschland;X-APPLE-RADIUS=100;X-TITLE=HANNOVER
  MESSE 2026:geo:0,0
END:VEVENT
BEGIN:VTIMEZONE
TZID:Europe/Berlin
X-LIC-LOCATION:Europe/Berlin
BEGIN:DAYLIGHT
DTSTART:20260329T030000
TZOFFSETFROM:+0100
TZOFFSETTO:+0200
TZNAME:CEST
END:DAYLIGHT
END:VTIMEZONE
END:VCALENDAR