BEGIN:VCALENDAR
VERSION:2.0
PRODID:-//wp-events-plugin.com//7.2.3.1//EN
TZID:Europe/Berlin
X-WR-TIMEZONE:Europe/Berlin
BEGIN:VEVENT
UID:2634@it-sicherheit.de
DTSTART;TZID=Europe/Berlin:20260225T140000
DTEND;TZID=Europe/Berlin:20260225T153000
DTSTAMP:20260123T085522Z
URL:https://it-sicherheit.de/veranstaltungen/gefahren-von-ki-im-bueroallta
 g/
SUMMARY:Gefahren von KI im Büroalltag
DESCRIPTION:Künstliche Intelligenz (KI) ist heute keine Zukunftsvision meh
 r\, sondern bereits fester Bestandteil unseres Alltags. Angesichts der zun
 ehmenden Komplexität von Prozessen\, der enormen Menge an Informationen u
 nd dem steigenden Zeitdruck wird Automatisierung unverzichtbar\, um routin
 emäßige Aufgaben auszulagern und sich auf zentrale Tätigkeiten zu konze
 ntrieren. KI bietet das Potenzial\, die Arbeitsbelastung zu verringern und
  die Wertschöpfung zu steigern. Gleichzeitig bringt der Einsatz von KI je
 doch neue Herausforderungen mit sich\, insbesondere in Bezug auf IT-Sicher
 heit. Sie erfordert ein Umdenken beim Umgang mit Daten\, insbesondere im H
 inblick auf deren Austausch und die Grundlage für datenbasierte Entscheid
 ungen.
ATTACH;FMTTYPE=image/jpeg:https://it-sicherheit.de/wp-content/uploads/2026
 /01/gefahren_von_Ki.jpg
CATEGORIES:Schulungen und Seminare
LOCATION:https://digitalzentrum-darmstadt.de/veranstaltung/gefahren-von-ki-
 im-bueroalltag-2/
END:VEVENT
BEGIN:VTIMEZONE
TZID:Europe/Berlin
X-LIC-LOCATION:Europe/Berlin
BEGIN:STANDARD
DTSTART:20251026T020000
TZOFFSETFROM:+0200
TZOFFSETTO:+0100
TZNAME:CET
END:STANDARD
END:VTIMEZONE
END:VCALENDAR