BEGIN:VCALENDAR
VERSION:2.0
PRODID:-//wp-events-plugin.com//7.2.3.1//EN
TZID:Europe/Berlin
X-WR-TIMEZONE:Europe/Berlin
BEGIN:VEVENT
UID:2484@it-sicherheit.de
DTSTART;TZID=Europe/Berlin:20260519T080000
DTEND;TZID=Europe/Berlin:20260522T170000
DTSTAMP:20251210T233854Z
URL:https://it-sicherheit.de/veranstaltungen/european-identity-and-cloud-c
 onference-2026-eic-2026/
SUMMARY:European Identity and Cloud Conference 2026 (EIC 2026)
DESCRIPTION:\n\n\n\n\n\n\nAls führende europäische Konferenz für digital
 e Identität\, Sicherheit\, Datenschutz und Governance kehrt die European 
 Identity and Cloud Conference (EIC) 2026 vom 19. bis 22. Mai 2026 nach Ber
 lin zurück. Mit über 1.500 Teilnehmenden\, rund 300 Speaker:innen sowie 
 mehr als 230 Sessions bringt die EIC Branchenführer\, Innovatoren und Ana
 lysten zusammen\, um die Zukunft der digitalen Identität zu gestalten.\nD
 as Programm 2026 beleuchtet aktuelle Entwicklungen in Identity Fabrics\, Z
 ero Trust\, AI Governance\, Digital Trust Frameworks\, ITDR\, Decentralize
 d Identity und vielen weiteren Schlüsselthemen. Die EIC bietet praxisnahe
  Einblicke\, Strategien und Best Practices\, um Vertrauen und Sicherheit i
 n einer zunehmend KI-getriebenen Welt nachhaltig zu stärken.\nExklusiver 
 Rabatt für unsere Anwender:innen: Mit dem Code miseic26mko erhalten Sie 2
 5 % Rabatt auf Ihr Ticket.\nJetzt Ticket sichern und Teil der EIC 2026 sei
 n!\n\n\n\n\n\n\n\n\n
ATTACH;FMTTYPE=image/jpeg:https://it-sicherheit.de/wp-content/uploads/2025
 /12/2026_EIC_BigPicture.jpg
CATEGORIES:Kongresse
LOCATION:Berlin Congress Center (bcc)\, Alexanderplatz 11\, Berlin\, 10178 
 \, Deutschland
X-APPLE-STRUCTURED-LOCATION;VALUE=URI;X-ADDRESS=Alexanderplatz 11\, Berlin\
 , 10178 \, Deutschland;X-APPLE-RADIUS=100;X-TITLE=Berlin Congress Center (
 bcc):geo:0,0
END:VEVENT
BEGIN:VTIMEZONE
TZID:Europe/Berlin
X-LIC-LOCATION:Europe/Berlin
BEGIN:DAYLIGHT
DTSTART:20260329T030000
TZOFFSETFROM:+0100
TZOFFSETTO:+0200
TZNAME:CEST
END:DAYLIGHT
END:VTIMEZONE
END:VCALENDAR