BEGIN:VCALENDAR
VERSION:2.0
PRODID:-//wp-events-plugin.com//7.2.3.1//EN
TZID:Europe/Berlin
X-WR-TIMEZONE:Europe/Berlin
BEGIN:VEVENT
UID:2407@it-sicherheit.de
DTSTART;TZID=Europe/Berlin:20260824T090000
DTEND;TZID=Europe/Berlin:20260824T170000
DTSTAMP:20251125T142822Z
URL:https://it-sicherheit.de/veranstaltungen/datenschutzmanagement-nach-is
 o-27701-online-3/
SUMMARY:Datenschutzmanagement nach ISO 27701 (Online)
DESCRIPTION:Du lernst in der eintägigen Veranstaltung „Zertifizierter 
 Datenschutz – Tool-basierter Workshop für Privacy Compliance nach ISO 2
 7701“ die internationale Norm ISO 27701 kennen. Du bekommst Einblick in 
 die Praxis beim Aufbau eines Datenschutz-Managementsystems (DSMS). Intensi
 v wird auf diejenigen Prozesse eingegangen\, die im Rahmen einer Datenschu
 tz-Zertifizierung betrachtet werden.\n\n\n\nInhalt der Schulung\n\n 	\n\n 
 	Einführung in das Datenschutzmanagement und die ISO 27701\n\n\n\n&nbsp\;
 \n\n 	Zusammenhang von ISO 27701 mit anderen Datenschutzstandards und -reg
 elungen (z. B. DSGVO)\n 	Integration des Datenschutzmanagements in das bes
 tehende Managementsystem\n 	Identifizierung und Bewertung von Datenschutzr
 isiken\n 	Definition von Kontrollen zur Minimierung von Datenschutzrisiken
 \n 	Implementierung und Betrieb eines Datenschutzmanagementsystems\n 	Übe
 rwachung\, Bewertung und Verbesserung des Datenschutzmanagementsystems\n 	
 Datenschutzaudits und Zertifizierung nach ISO 27701\n\n\n\n\nZielgruppe\n\
 n\n&nbsp\;\n\n 	\n\n 	Datenschutzbeauftragte\n\n\n\n&nbsp\;\n\n 	IT-Sicher
 heitsbeauftragte\n 	Compliance-Manager\n 	Mitarbeiter des Datenschutzbüro
 s\n\n&nbsp\;
ATTACH;FMTTYPE=image/jpeg:https://it-sicherheit.de/wp-content/uploads/2025
 /11/iStock-1401942487-217.jpg
CATEGORIES:Schulungen und Seminare
LOCATION:https://www.mitsm.de/schulung/datenschutz/workshop-datenschutz-nac
 h-iso-27701/
END:VEVENT
BEGIN:VTIMEZONE
TZID:Europe/Berlin
X-LIC-LOCATION:Europe/Berlin
BEGIN:DAYLIGHT
DTSTART:20260329T030000
TZOFFSETFROM:+0100
TZOFFSETTO:+0200
TZNAME:CEST
END:DAYLIGHT
END:VTIMEZONE
END:VCALENDAR