BEGIN:VCALENDAR
VERSION:2.0
PRODID:-//wp-events-plugin.com//7.2.3.1//EN
TZID:Europe/Berlin
X-WR-TIMEZONE:Europe/Berlin
BEGIN:VEVENT
UID:2162@it-sicherheit.de
DTSTART;TZID=Europe/Berlin:20260323T080000
DTEND;TZID=Europe/Berlin:20260326T190000
DTSTAMP:20251016T084225Z
URL:https://it-sicherheit.de/veranstaltungen/cloudfest-2026/
SUMMARY:CloudFest 2026
DESCRIPTION:Als global führende Messe der Cloud Industrie\, bei der sich 
 alles um Themen der IT und Daten Branchen dreht\, treffen Enthusiasten d
 es Bereichs und Experten aufeinander und Besucher werden mit einem spektak
 ulären Angebot empfangen. Das Event bietet eine ideale Gelegenheit\, um s
 ich mit den neuesten Themen und Innovationen des Bereichs auseinanderzuset
 zen\, sich mit Experten zu unterhalten\, Meinungen einzuholen und sich neu
 e Konzepte und Ideen eröffnen und erklären zu lassen. Außerdem machen d
 ie Veranstalter es für Interessierte möglich\, sich untereinander zu unt
 erhalten und sich über das Gesehen und Erlebte auszutauschen.\n\nDurch da
 s große Angebot an Vorträgen und Präsentationen sowie Podiumsdiskussi
 onen\, bei denen es um IT- Solutions und Innovation geht\, kann das eige
 ne Wissen ausgebaut werden.
ATTACH;FMTTYPE=image/jpeg:https://it-sicherheit.de/wp-content/uploads/2025
 /10/Cloudfest.webp
CATEGORIES:Kongresse
LOCATION:Hosting- und Service-Provider-Branchen\,  Europa-Park-Straße 2\, 
 Rust\, Baden-Württemberg \, 77977 \, Deutschland
X-APPLE-STRUCTURED-LOCATION;VALUE=URI;X-ADDRESS= Europa-Park-Straße 2\, Ru
 st\, Baden-Württemberg \, 77977 \, Deutschland;X-APPLE-RADIUS=100;X-TITLE
 =Hosting- und Service-Provider-Branchen:geo:0,0
END:VEVENT
BEGIN:VTIMEZONE
TZID:Europe/Berlin
X-LIC-LOCATION:Europe/Berlin
BEGIN:STANDARD
DTSTART:20251026T020000
TZOFFSETFROM:+0200
TZOFFSETTO:+0100
TZNAME:CET
END:STANDARD
END:VTIMEZONE
END:VCALENDAR