BEGIN:VCALENDAR
VERSION:2.0
PRODID:-//wp-events-plugin.com//7.2.3.1//EN
TZID:Europe/Berlin
X-WR-TIMEZONE:Europe/Berlin
BEGIN:VEVENT
UID:900@it-sicherheit.de
DTSTART;TZID=Europe/Berlin;VALUE=DATE:20260608
DTEND;TZID=Europe/Berlin;VALUE=DATE:20260613
DTSTAMP:20260314T124716Z
URL:https://it-sicherheit.de/veranstaltungen/certified-information-systems
 -security-professional-cissp/
SUMMARY:Certified Information Systems Security Professional (CISSP)
DESCRIPTION:Der CISSP wird als „Gold Standard Credential“ der Informati
 on Security gehandelt. Die UK NARIC hebt die CISSP-Zertifizierung auf den 
 Stand eines Master-Abschlusses.​Zeigen Sie bei Ihren Kunden Flagge\, be
 weisen Sie Kompetenz und verschaffen Sie sich Kundenvertrauen und Wettbewe
 rbsvorteile durch ein breit aufgestelltes und zugleich tief fundiertes Wis
 sen!​Die Teilnehmer dieses 5-tägigen Kurses werden intensiv und prüfun
 gsorientiert in deutscher Sprache von einem ISC2 autorisierten Trainer auf
  das Examen „Certified Information Systems Security Professional“ (CIS
 SP) vorbereitet. Das Seminar vermittelt unter Nutzung der offiziellen ISC
 2 CISSP-Schulungsunterlagen und -Testprüfungen alle Wissensgebiete der C
 ISSP CBK-Domänen in ausführlicher und interaktiver Form. Zusätzlich beg
 leiten wir Sie vor und nach dem Training mit persönlichem Coaching bis zu
 r Prüfung.\n\n&nbsp\;\n\nInhalte\n\nSecurity and Risk Management:\n\n 	Si
 cherheitsanforderungen\n 	Compliance\, Recht und Regulierung\n 	Governance
  und Richtlinien\n 	Standards und Frameworks\n 	Risiko Management\n 	Busin
 ess Continuity Planning\n\n​Asset Security:\n\n 	Schutz der Vermögenswe
 rte\n 	Klassifikation\n 	Rollen\n\n​Security Architecture and Engineerin
 g:\n\n 	Sicherheitsmodelle\n 	Design und Schutzmaßnahmen\n 	Kryptographie
 \n 	Physische Sicherheit\n\n​Communication and Network Security:\n\n 	To
 pologien\n 	Technologien\n 	Protokolle\n 	Angriffe\n 	Sicherheitsmaßnahme
 n\n\n​Identity and Access Management (IAM):\n\n 	Identitätskontrolle\n 
 	Zugriffskontrollmodelle\n\n​Security Assessment and Testing:\n\n 	Planu
 ng und Durchführung von Sicherheitstests\n 	Vulnerability Assessments\n 	
 Pentests\n\nSecurity Operations:\n\n 	Sicherer Betrieb und Wartung\n 	Inci
 dence Response\n 	Disaster Recovery Planning\n\nSoftware Development Secur
 ity:\n\n 	Entwicklung sicherer Software-Anwendungen\n 	Web-Anwendungen und
  mobile Anwendungen\n 	Malware und Angriffe auf Anwendungen\n 	IoT und ICS
 \n\n&nbsp\;\n\nTermine\n\n23.09. - 27.09.2024\n25.11. - 29.11.2024\n\n17.0
 3. - 21.03.2025\n16.06. - 20.06.2025\n22.09. - 26.09.2025\n24.11. - 28.11.
 2025\n09.03. - 13.03.2026\n08.06. - 12.06.2026\n14.09. - 18.09.2026\n23.11
 . - 27.11.2026 \n&nbsp\;\n\nOnline-Teilnahme möglich.\n\nInhouse-Trainin
 gs auf Anfrage (deutsch\, englisch).\n\n&nbsp\;\n\nAlle Informationen zu I
 nhalt und Organisation des Kurses finden Sie unter https://www.manufaktur-
 it-training.de/cissp
ATTACH;FMTTYPE=image/jpeg:https://it-sicherheit.de/wp-content/uploads/2024
 /09/ISC2_CISSP_RGB__mark.jpg
CATEGORIES:Schulungen und Seminare
LOCATION:https://www.manufaktur-it-training.de/cissp
END:VEVENT
BEGIN:VTIMEZONE
TZID:Europe/Berlin
X-LIC-LOCATION:Europe/Berlin
BEGIN:DAYLIGHT
DTSTART:20260329T030000
TZOFFSETFROM:+0100
TZOFFSETTO:+0200
TZNAME:CEST
END:DAYLIGHT
END:VTIMEZONE
END:VCALENDAR