BEGIN:VCALENDAR
VERSION:2.0
PRODID:-//wp-events-plugin.com//7.2.3.1//EN
TZID:Europe/Berlin
X-WR-TIMEZONE:Europe/Berlin
BEGIN:VEVENT
UID:901@it-sicherheit.de
DTSTART;TZID=Europe/Berlin;VALUE=DATE:20261006
DTEND;TZID=Europe/Berlin;VALUE=DATE:20261010
DTSTAMP:20251129T145048Z
URL:https://it-sicherheit.de/veranstaltungen/certified-cloud-security-prof
 essional-ccsp/
SUMMARY:Certified Cloud Security Professional (CCSP)
DESCRIPTION:Die Cloud: stets neue Herausforderungen\, Technologien\, Anbiet
 er\, Gesetze\, Regulierungen und Bedrohungen. Zeit für den richtigen Durc
 hblick! Der CCSP ist ein internationales Zertifikat\, das von der ISC2 in 
 Zusammenarbeit mit der Cloud Security Alliance (CSA) erstellt wurde und 
 Ihnen den höchsten Standard für Cloud Security Expertise akkreditiert. L
 t. Spiceworks Report beträgt das durchschnittliche CCSP Gehalt internat
 ional $ 124.000 und ist das zweitbeliebteste IT-Sicherheitszertifikat\, da
 s die Befragten in den nächsten 12 Monaten erwerben wollen.Die Teilnehmer
  dieses 4-tägigen Kurses werden intensiv und prüfungsorientiert in deut
 scher Sprache von einem ISC2 autorisierten Trainer auf das Examen "Certif
 ied Cloud Security Professional" (CCSP) vorbereitet. Das Seminar vermittel
 t unter Nutzung der offiziellen ISC2 CCSP-Schulungsunterlagen und -Testpr
 üfungen alle Wissensgebiete der einzelnen CCSP CBK Domänen in ausführl
 icher und interaktiver Form. Zusätzlich begleiten wir Sie vor und nach de
 m Training mit persönlichem Coaching bis zur Prüfung.\n\n&nbsp\;\n\nInha
 lte\n\nCloud Concepts\, Architecture and Design:\n\n 	Cloud Computing Conc
 epts\n 	Cloud Reference Architecture\n 	Security Concepts Relevant to Clou
 d Computing\n 	Design Principles of Secure Cloud Computing\n 	Evaluation o
 f Cloud Service Providers\n\nCloud Data Security:\n\n 	Cloud Data Concepts
 \n 	Cloud Data Storage Architecture\n 	Data Security Technologies and Stra
 tegies\n 	Data Discovery\n 	Data Classification\n 	Information Rights Mana
 gement\n 	Data Retention\, Deletion\, Archiving Policies\n 	Auditability\,
  Traceability\, Accountability of Data Events\n\nCloud Platform and Infras
 tructure Security:\n\n 	Cloud Infrastructure Components\n 	Secure Data Cen
 ter\n\nRisks associated with Cloud Infrastructure\n\n 	Security Controls\n
  	Disaster Recovery (DR) and Business Continuity (BC)\n\n​Cloud Applicat
 ion Security:\n\n 	Training and Awareness for Application Security\n 	Secu
 re Software Development Lifecycle (SDLC)\n 	Cloud Software Assurance and V
 erification\n 	Verified Secure Software\n 	Specifics of Cloud Application 
 Architecture\n 	Identity and Access Management (IAM) Solution\n\n​Cloud 
 Security Operations:\n\n 	Physical and Logical Infrastructure for Cloud En
 vironment\n 	Operational Controls and Standards\n 	Digital Forensics\n 	Co
 mmunication with Relevant Parties​\n\n​Legal\, Risk and Compliance:\n\
 n 	Legal Requirements and unique Risks within the Cloud Environment\n 	Pri
 vacy Issues\, Juristicional Variance\n 	Audit Process\, Methodologies\, an
 d required Adaptations for a Cloud Environment\n 	Implications of Cloud to
  Enterprise Risk Management\n 	Outsourcing and Cloud Contract Design\n\n&n
 bsp\;\n\nTermine\n\n14.05. - 17.05.2024\n12.11. - 15.11.2024\n\n​13.05. 
 - 16.05.2025\n11.11. - 14.11.2025\n\n06.10. - 09.10.2026\n\nOnline-Teilnah
 me möglich.\n\nInhouse-Trainings auf Anfrage (deutsch\, englisch).\n\n&nb
 sp\;\n\nAlle Informationen zu Inhalt und Organisation des Kurses finden Si
 e unter https://www.manufaktur-it-training.de/ccsp
ATTACH;FMTTYPE=image/jpeg:https://it-sicherheit.de/wp-content/uploads/2024
 /09/ISC2_CCSP_RGB_Badge.600x600.png
CATEGORIES:Schulungen und Seminare
LOCATION:https://www.manufaktur-it-training.de/ccsp
END:VEVENT
BEGIN:VTIMEZONE
TZID:Europe/Berlin
X-LIC-LOCATION:Europe/Berlin
BEGIN:DAYLIGHT
DTSTART:20260329T030000
TZOFFSETFROM:+0100
TZOFFSETTO:+0200
TZNAME:CEST
END:DAYLIGHT
END:VTIMEZONE
END:VCALENDAR