BEGIN:VCALENDAR
VERSION:2.0
PRODID:-//wp-events-plugin.com//7.2.3.1//EN
TZID:Europe/Berlin
X-WR-TIMEZONE:Europe/Berlin
BEGIN:VEVENT
UID:2918@it-sicherheit.de
DTSTART;TZID=Europe/Berlin:20260528T000000
DTEND;TZID=Europe/Berlin:20260528T000000
DTSTAMP:20260424T064143Z
URL:https://it-sicherheit.de/veranstaltungen/cancom-security-day-2026/
SUMMARY:Cancom  Security Day 2026
DESCRIPTION:Jährlicher Treffpunkt für IT‑Security‑Experten\, Technolo
 giepartner und Entscheider.\n\nSEPPmail als Goldpartner\n\nRoman Stadlmair
  hält einen Vortrag von 12:00 bis 12.20 Uhr mit dem Thema "Exchange Onlin
 e - epic fails! Geschichten vom Schulhof der globalen Mailing Infrastruktu
 r"
CATEGORIES:Sonstige
LOCATION:Schloss Schönbrunn\, Apothekertrakt\, Schloss Schönbrunn\, Wien\
 , 1130\, Österreich
X-APPLE-STRUCTURED-LOCATION;VALUE=URI;X-ADDRESS=Apothekertrakt\, Schloss Sc
 hönbrunn\, Wien\, 1130\, Österreich;X-APPLE-RADIUS=100;X-TITLE=Schloss S
 chönbrunn:geo:0,0
END:VEVENT
BEGIN:VTIMEZONE
TZID:Europe/Berlin
X-LIC-LOCATION:Europe/Berlin
BEGIN:DAYLIGHT
DTSTART:20260329T030000
TZOFFSETFROM:+0100
TZOFFSETTO:+0200
TZNAME:CEST
END:DAYLIGHT
END:VTIMEZONE
END:VCALENDAR