BEGIN:VCALENDAR
VERSION:2.0
PRODID:-//wp-events-plugin.com//7.2.3.1//EN
TZID:Europe/Berlin
X-WR-TIMEZONE:Europe/Berlin
BEGIN:VEVENT
UID:2632@it-sicherheit.de
DTSTART;TZID=Europe/Berlin:20260302T090000
DTEND;TZID=Europe/Berlin:20260306T170000
DTSTAMP:20260122T140038Z
URL:https://it-sicherheit.de/veranstaltungen/business-continuity-manager-t
 uev/
SUMMARY:Business Continuity Manager (TÜV)
DESCRIPTION:Gerade in Krisenzeiten ist ein gutes Business Continuity Manage
 ment für Organisationen unumgänglich.\n\nEin BCM ist ein ganzheitlicher\
 , strukturierter Aufbau eines proaktiven Notfall- und Krisenmanagements zu
 r systematischen Vorbereitung auf die umfassende Bewältigung möglicher S
 chadensereignisse.\n\nDas Seminar richtet sich an (zukünftige) BCM-Verant
 wortliche\, die ihr bereits erworbenes Wissen und ihre Erfahrung anhand vo
 n Übungen und Fallstudien weiter festigen möchten.\n\nEs widmet sich der
  Planung und dem Aufbau eines Business-Continuity-Management-Systems. Die 
 Elemente des BCM-Lebenszyklus und der relevanten Standards werden ebenso b
 eleuchtet wie die vorrangig gelagerte Strategie und BCM-Policy.\n\nAnhand 
 von Fallbeispielen werden Wege aufgezeigt\, wie eine Business-Impact-Analy
 se oder Kontinuitätspläne umgesetzt werden können. Sie erhalten Handlun
 gsempfehlungen für einen geordneten Notbetrieb und analysieren Ihre maxim
 al tolerierbare Ausfallzeit sowie den „Point of no Return“.\n\nNach Be
 stehen der Prüfung zum Business Continuity Manager (TÜV) erhalten Sie ei
 n Zertifikat\, das drei Jahre gültig ist.
CATEGORIES:Schulungen und Seminare
LOCATION:https://www.is-its.org/seminare/isits-seminarangebot/business-cont
 inuity-manager-tuev
END:VEVENT
BEGIN:VTIMEZONE
TZID:Europe/Berlin
X-LIC-LOCATION:Europe/Berlin
BEGIN:STANDARD
DTSTART:20251026T020000
TZOFFSETFROM:+0200
TZOFFSETTO:+0100
TZNAME:CET
END:STANDARD
END:VTIMEZONE
END:VCALENDAR