BEGIN:VCALENDAR
VERSION:2.0
PRODID:-//wp-events-plugin.com//7.2.3.1//EN
TZID:Europe/Berlin
X-WR-TIMEZONE:Europe/Berlin
BEGIN:VEVENT
UID:2856@it-sicherheit.de
DTSTART;TZID=Europe/Berlin:20260324T000000
DTEND;TZID=Europe/Berlin:20260325T000000
DTSTAMP:20260309T135407Z
URL:https://it-sicherheit.de/veranstaltungen/bankenkongress-kurs/
SUMMARY:Bankenkongress KURS
DESCRIPTION:
CATEGORIES:Messen
LOCATION:Austria Trend Hotel Savoyen\, Rennweg 16\, Wien\, 1030\, Österrei
 ch
X-APPLE-STRUCTURED-LOCATION;VALUE=URI;X-ADDRESS=Rennweg 16\, Wien\, 1030\, 
 Österreich;X-APPLE-RADIUS=100;X-TITLE=Austria Trend Hotel Savoyen:geo:0,0
END:VEVENT
BEGIN:VTIMEZONE
TZID:Europe/Berlin
X-LIC-LOCATION:Europe/Berlin
BEGIN:STANDARD
DTSTART:20251026T020000
TZOFFSETFROM:+0200
TZOFFSETTO:+0100
TZNAME:CET
END:STANDARD
END:VTIMEZONE
END:VCALENDAR