BEGIN:VCALENDAR
VERSION:2.0
PRODID:-//wp-events-plugin.com//7.2.3.1//EN
TZID:Europe/Berlin
X-WR-TIMEZONE:Europe/Berlin
BEGIN:VEVENT
UID:2920@it-sicherheit.de
DTSTART;TZID=Europe/Berlin:20260520T000000
DTEND;TZID=Europe/Berlin:20260521T000000
DTSTAMP:20260424T064656Z
URL:https://it-sicherheit.de/veranstaltungen/antares-technologieforum-2026
 /
SUMMARY:ANTARES TECHNOLOGIEFORUM 2026
DESCRIPTION:Das Antares Technologieforum bringt IT-Security-Experten\, Ents
 cheider und Vordenker zusammen\, um aktuelle Herausforderungen und zukunft
 sweisende Lösungen der IT-Sicherheit zu beleuchten.
CATEGORIES:Sonstige
LOCATION:Seminarhotel Kothmühle\, Kothmühle 1\, Neuhofen an der Ybbs\, 33
 64\, Österreich
X-APPLE-STRUCTURED-LOCATION;VALUE=URI;X-ADDRESS=Kothmühle 1\, Neuhofen an 
 der Ybbs\, 3364\, Österreich;X-APPLE-RADIUS=100;X-TITLE=Seminarhotel Koth
 mühle:geo:0,0
END:VEVENT
BEGIN:VTIMEZONE
TZID:Europe/Berlin
X-LIC-LOCATION:Europe/Berlin
BEGIN:DAYLIGHT
DTSTART:20260329T030000
TZOFFSETFROM:+0100
TZOFFSETTO:+0200
TZNAME:CEST
END:DAYLIGHT
END:VTIMEZONE
END:VCALENDAR