BEGIN:VCALENDAR
VERSION:2.0
PRODID:-//wp-events-plugin.com//7.2.3.1//EN
TZID:Europe/Berlin
X-WR-TIMEZONE:Europe/Berlin
BEGIN:VEVENT
UID:2529@it-sicherheit.de
DTSTART;TZID=Europe/Berlin:20261126T090000
DTEND;TZID=Europe/Berlin:20261126T170000
DTSTAMP:20251218T094958Z
URL:https://it-sicherheit.de/veranstaltungen/ai-compliance-experte-3/
SUMMARY:AI Compliance Experte
DESCRIPTION:AI Compliance Expert – Rechtssicherheit im Umgang mit Künstl
 icher Intelligenz\n\nIn der eintägigen Schulung AI Compliance Expert ve
 rmitteln wir Teilnehmenden vertiefte Kenntnisse zur KI-Verordnung\, zum
  Datenschutz im Kontext von KI sowie zum Schutz geistigen Eigentums im
  Zusammenhang mit Künstlicher Intelligenz.\n\n\nDie Schulung richtet sic
 h an alle\, die Verantwortung für KI-Compliance im Unternehmen überneh
 men oder in ihrer Rolle mit rechtlichen Aspekten der KI-Nutzung konfront
 iert sind.\n\n\nSchulungsinhalte im Überblick:\n\n\n\n 	Überblick und Au
 swirkungen der EU-KI-Verordnung (AI Act)\n 	Datenschutz und KI: DSGVO-kon
 former Umgang mit KI-Systemen\n 	Geistiges Eigentum im Kontext generative
 r KI\n 	Verantwortlichkeiten und Dokumentationspflichten für Unternehmen\
 n 	Best Practices für den Aufbau konformer Prozesse\n\nNach dieser Schul
 ung bist du in der Lage\, rechtliche Risiken fundiert zu bewerten und k
 onkrete Maßnahmen zur Einhaltung regulatorischer Anforderungen in deinem 
 Unternehmen umzusetzen.
ATTACH;FMTTYPE=image/jpeg:https://it-sicherheit.de/wp-content/uploads/2025
 /12/iStock-1401942487-83.jpg
CATEGORIES:Schulungen und Seminare
LOCATION:mITSM Schulungszentrum im NEWTON\, Ridlerstraße 57\, München\, B
 ayern\, 80339\, Deutschland
X-APPLE-STRUCTURED-LOCATION;VALUE=URI;X-ADDRESS=Ridlerstraße 57\, München
 \, Bayern\, 80339\, Deutschland;X-APPLE-RADIUS=100;X-TITLE=mITSM Schulungs
 zentrum im NEWTON:geo:0,0
END:VEVENT
BEGIN:VTIMEZONE
TZID:Europe/Berlin
X-LIC-LOCATION:Europe/Berlin
BEGIN:STANDARD
DTSTART:20261025T020000
TZOFFSETFROM:+0200
TZOFFSETTO:+0100
TZNAME:CET
END:STANDARD
END:VTIMEZONE
END:VCALENDAR