BEGIN:VCALENDAR
VERSION:2.0
PRODID:-//wp-events-plugin.com//7.2.3.1//EN
TZID:Europe/Berlin
X-WR-TIMEZONE:Europe/Berlin
BEGIN:VEVENT
UID:2911@it-sicherheit.de
DTSTART;TZID=Europe/Berlin:20260917T090000
DTEND;TZID=Europe/Berlin:20260917T180000
DTSTAMP:20260422T102833Z
URL:https://it-sicherheit.de/veranstaltungen/7-deutscher-it-security-kongr
 ess-2026/
SUMMARY:7. Deutscher IT-Security Kongress 2026
DESCRIPTION:Wenn Systeme plötzlich ausfallen\, Daten verschlüsselt werden
  oder ganze Produktionsanlagen stillstehen\, steckt nicht selten ein Cyber
 -Angriff dahinter. Was lange Zeit vor allem große Konzerne betraf\, ist l
 ängst zur Realität für Unternehmen jeder Größe geworden.\nDer 7. Deut
 sche IT-Security Kongress widmet sich genau diesen Herausforderungen und r
 ückt zentrale Themen wie Informationssicherheit und Governance\, KI-gest
 ützte Bedrohungen und moderne Abwehrstrategien\, sichere Cloud-Konzepte s
 owie Managed Security Services und Operations in den Mittelpunkt. Darüber
  hinaus stehen auch zukunftsfähige IT-Infrastrukturen und der entscheiden
 de Faktor Mensch im Fokus. Neben hochkarätigen Keynotes\, interaktiven Pa
 nels\, Workshops und einem außergewöhnlichen\nRahmenprogramm dürfen sic
 h die Teilnehmenden auch auf innovative Themenwelten mit renommierten Hers
 teller:innen sowie auf eine Event-Rallye freuen. Moderiert wird der Kongre
 ss von Tech-Expertin Christiane Stein sowie Organisationsentwicklerin Emil
 y Feldscher.\n2025 konnte der Deutsche IT-Security Kongress mehr als 800 T
 eilnehmende vor Ort begeistern. 2026 auch Dich?\n\nWeitere Informationen u
 nd die Möglichkeit zur Anmeldung findest Du unter: https://www.pco-online
 .de/kongress2026 
ATTACH;FMTTYPE=image/jpeg:https://it-sicherheit.de/wp-content/uploads/2026
 /04/keyvisual-1920x1080px-scaled.jpg
CATEGORIES:Kongresse
LOCATION:OsnabrückHalle | Kostenlos | Osnabrück\,  Schlosswall 1-9\, Osna
 brück\, 49074 \, Deutschland
X-APPLE-STRUCTURED-LOCATION;VALUE=URI;X-ADDRESS= Schlosswall 1-9\, Osnabrü
 ck\, 49074 \, Deutschland;X-APPLE-RADIUS=100;X-TITLE=OsnabrückHalle | Kos
 tenlos | Osnabrück:geo:0,0
END:VEVENT
BEGIN:VTIMEZONE
TZID:Europe/Berlin
X-LIC-LOCATION:Europe/Berlin
BEGIN:DAYLIGHT
DTSTART:20260329T030000
TZOFFSETFROM:+0100
TZOFFSETTO:+0200
TZNAME:CEST
END:DAYLIGHT
END:VTIMEZONE
END:VCALENDAR